{"text_format":"1","workbook":"xlsx","n_sheets":11,"sheets":["記録用ﾁｪｯｸｼｰﾄ (記入例)","記録用ﾁｪｯｸｼｰﾄ","ＧＪ用ショット集計表 (記入例)","ＧＪ用ショット集計表","GameSheet","GameSheet2枚目","TeamA","TeamB","List","参考（略語解説)","追加・削除用"],"not_rendered":{"charts":0,"images":6,"macros":1,"external_links":1,"defined_names":56,"comments":3,"pivot_tables":0},"unopened":[],"bounds":{"document_bytes":16777216,"sheet_cells":100000,"rows_first":2000,"rows_last":500,"rows_between":2000,"halvings":0,"cell_chars":16384,"cell_head_chars":4096},"cells_cut":0,"cells_raw":0,"read":"whole","date_system":"1900"}

{"sheet":"記録用ﾁｪｯｸｼｰﾄ (記入例)","index":0,"n_rows":47,"n_cols":22,"rows_kept":47,"cut":false,"hidden":false,"merged":[[18,3,18,4],[19,3,19,4],[18,13,18,14],[19,13,19,14],[20,13,20,14],[25,3,25,4],[25,5,25,6],[25,7,25,8],[25,9,25,10],[23,5,23,6],[9,3,9,4],[12,3,12,4],[12,13,12,14],[14,3,14,4],[15,13,15,14],[16,13,16,14],[15,5,15,6],[15,7,15,8],[15,9,15,10],[13,5,13,6],[55,5,55,6],[55,7,55,8],[55,9,55,10],[55,15,55,16],[55,17,55,18],[8,13,8,14],[53,5,53,6],[53,7,53,8],[53,9,53,10],[53,15,53,16],[53,17,53,18],[54,5,54,6],[54,7,54,8],[54,9,54,10],[54,15,54,16],[54,17,54,18],[51,5,51,6],[51,7,51,8],[51,9,51,10],[51,15,51,16],[51,17,51,18],[52,5,52,6],[52,7,52,8],[52,9,52,10],[52,15,52,16],[52,17,52,18],[49,5,49,6],[49,7,49,8],[49,9,49,10],[49,15,49,16],[49,17,49,18],[50,5,50,6],[50,7,50,8],[50,9,50,10],[50,15,50,16],[50,17,50,18],[47,5,47,6],[47,7,47,8],[47,9,47,10],[47,15,47,16],[47,17,47,18],[48,5,48,6],[48,7,48,8],[48,9,48,10],[48,15,48,16],[48,17,48,18],[45,5,45,6],[45,7,45,8],[45,9,45,10],[45,15,45,16],[45,17,45,18],[46,15,46,16],[46,17,46,18],[43,5,43,6],[43,7,43,8],[43,9,43,10],[43,15,43,16],[43,17,43,18],[44,15,44,16],[44,17,44,18],[41,5,41,6],[41,7,41,8],[41,9,41,10],[41,15,41,16],[41,17,41,18],[42,15,42,16],[42,17,42,18],[39,5,39,6],[39,7,39,8],[39,9,39,10],[39,15,39,16],[39,17,39,18],[40,17,40,18],[37,5,37,6],[37,7,37,8],[37,9,37,10],[37,15,37,16],[37,17,37,18],[38,5,38,6],[38,7,38,8],[38,9,38,10],[38,15,38,16],[38,17,38,18],[35,5,35,6],[35,7,35,8],[35,9,35,10],[35,15,35,16],[35,17,35,18],[36,5,36,6],[36,7,36,8],[36,9,36,10],[36,15,36,16],[36,17,36,18],[33,5,33,6],[33,7,33,8],[33,9,33,10],[33,15,33,16],[33,17,33,18],[34,5,34,6],[34,7,34,8],[34,9,34,10],[34,15,34,16],[34,17,34,18],[31,5,31,6],[31,7,31,8],[31,9,31,10],[31,15,31,16],[31,17,31,18],[32,5,32,6],[32,7,32,8],[32,9,32,10],[32,15,32,16],[32,17,32,18],[29,5,29,6],[29,7,29,8],[29,9,29,10],[29,15,29,16],[29,17,29,18],[30,5,30,6],[30,7,30,8],[30,9,30,10],[30,15,30,16],[30,17,30,18],[27,5,27,6],[27,7,27,8],[27,9,27,10],[27,15,27,16],[27,17,27,18],[28,5,28,6],[28,7,28,8],[28,9,28,10],[28,15,28,16],[28,17,28,18],[25,15,25,16],[25,17,25,18],[26,5,26,6],[26,7,26,8],[26,9,26,10],[26,15,26,16],[26,17,26,18],[23,7,23,8],[23,9,23,10],[23,15,23,16],[23,17,23,18],[24,5,24,6],[24,7,24,8],[24,9,24,10],[24,15,24,16],[24,17,24,18],[21,5,21,6],[21,7,21,8],[21,9,21,10],[21,15,21,16],[21,17,21,18],[22,5,22,6],[22,7,22,8],[22,9,22,10],[22,15,22,16],[22,17,22,18],[19,5,19,6],[19,7,19,8],[19,9,19,10],[19,15,19,16],[19,17,19,18],[20,5,20,6],[20,7,20,8],[20,9,20,10],[20,15,20,16],[20,17,20,18],[17,5,17,6],[17,7,17,8],[17,9,17,10],[17,15,17,16],[17,17,17,18],[18,5,18,6],[18,7,18,8],[18,9,18,10],[18,15,18,16],[18,17,18,18],[15,15,15,16],[15,17,15,18],[16,5,16,6],[16,7,16,8],[16,9,16,10],[16,15,16,16],[16,17,16,18],[13,7,13,8],[13,9,13,10],[13,15,13,16],[13,17,13,18],[14,5,14,6],[14,7,14,8],[14,9,14,10],[14,15,14,16],[14,17,14,18],[11,5,11,6],[11,7,11,8],[11,9,11,10],[11,15,11,16],[11,17,11,18],[12,5,12,6],[12,7,12,8],[12,9,12,10],[12,15,12,16],[12,17,12,18],[9,5,9,6],[9,7,9,8],[9,9,9,10],[9,15,9,16],[9,17,9,18],[10,5,10,6],[10,7,10,8],[10,9,10,10],[10,15,10,16],[10,17,10,18],[7,5,7,6],[7,7,7,8],[7,9,7,10],[7,15,7,16],[7,17,7,18],[8,5,8,6],[8,7,8,8],[8,9,8,10],[8,15,8,16],[8,17,8,18],[5,13,5,14],[5,15,5,16],[5,17,5,18],[6,5,6,6],[6,7,6,8],[6,9,6,10],[6,15,6,16],[6,17,6,18],[3,1,3,9],[3,10,3,18],[4,5,4,6],[4,7,4,8],[4,9,5,10],[4,15,4,16],[4,17,4,18],[5,3,5,4],[5,5,5,6],[5,7,5,8]]}
[]
[null,"記録用チェックシートです"]
[]
[null,"Home Team (A)  ",null,null,null,null,null,null,null,null,"Visiting Team (B)"]
[null,"G","A1","A2","＃","GS",null,"GK",null,"Time",null,"G","A1","A2","＃","GS",null,"GK",null,null,"色","は、GKの情報です。   変化するたびに記入します。"]
[null,"No.","Min","Offence",null,"Start",null,"End",null,null,null,"No.","Min","Offence",null,"Start",null,"End"]
[null,null,"-","-",null,"-",null,33,null,"00:00",null,null,null,null,null,null,null,1,null,null,"色","は、得点時の情報です。　　＃の①②③・・があると見つけ易いです。"]
[null,"5","13","-","①","EQ",null,null,null,812]
[null,null,null,null,null,null,null,null,null,1206,null,"23","2","HOLD",null,1206,null,1406,null,null,"色","は、反則時の情報です。　TRIPなど反則名があると見つけ易いです。"]
[null,"25","2","TRIP",null,1300,null,1430,null,1300]
[null,null,null,null,null,null,null,null,null,1430,null,"16","-","-","①","＋１",null,null,null,null,"真ん中のTimeが試合開始から終了までの時系列の情報です。"]
[null,null,null,null,null,null,null,33,null,1500,null,null,null,null,null,null,null,77]
[null,"14","2","INTRF",null,1633,null,1833,null,1633,null,"18","2","ROUGH",null,1633,null,1833]
[null,null,null,null,null,null,null,null,null,2045,null,"19","6",15,"②","EQ"]
[null,"3","-","HOOK",null,"-",null,"-",null,2305,null,"16","-","-","③"]
[null,null,null,null,null,null,null,null,null,2500,null,"20","2","CHE-B",null,2500,null,2550]
[null,null,null,null,null,null,null,null,null,null,null,"20","10","MISC",null,2550,null,3550]
[null,"16","15",19,"②","＋１",null,null,null,2550]
[null,"10","2","ROUGH",null,2800,null,3000,null,2800,null,"25","2","ROUGH",null,2800,null,2920]
[null,"12","2","ROUGH",null,2800,null,3000,null,null,null,"26","2","ROUGH",null,2800,null,3000]
[null,null,null,null,null,null,null,null,null,null,null,"28","2","ROUGH",null,2800,null,3000]
[null,"15","16","-","③","＋１",null,null,null,2920]
[null,null,null,null,null,null,null,null,null,4000,null,"16","-","-","④","EQ"]
[null,null,null,null,null,null,null,"-",null,4420,null,null,null,null,null,null,null,77]
[null,null,null,null,null,null,null,"33",null,4444,null,"16","15",19,"⑤","EN",null,77]
[null,"25","2","ROUGH",null,4450,null,4500,null,4450]
[null,null,null,null,null,null,null,"-",null,4500,null,null,null,null,null,null,null,"-"]
[]
[]
[]
[]
[]
[]
[]
[]
[]
[]
[]
[]
[]
[null,null,"色","は、GKの情報です。   変化するたびに記入します。"]
[]
[null,null,"色","は、得点時の情報です。　　＃の①②③・・があると見つけ易いです。"]
[]
[null,null,"色","は、反則時の情報です。　TRIPなど反則名があると見つけ易いです。"]
[]
[null,null,"真ん中のTimeが試合開始から終了までの時系列の情報です。"]

{"sheet":"記録用ﾁｪｯｸｼｰﾄ","index":1,"n_rows":7,"n_cols":18,"rows_kept":7,"cut":false,"hidden":false,"merged":[[54,5,54,6],[54,7,54,8],[54,9,54,10],[54,15,54,16],[54,17,54,18],[55,5,55,6],[55,7,55,8],[55,9,55,10],[55,15,55,16],[55,17,55,18],[52,5,52,6],[52,7,52,8],[52,9,52,10],[52,15,52,16],[52,17,52,18],[53,5,53,6],[53,7,53,8],[53,9,53,10],[53,15,53,16],[53,17,53,18],[50,5,50,6],[50,7,50,8],[50,9,50,10],[50,15,50,16],[50,17,50,18],[51,5,51,6],[51,7,51,8],[51,9,51,10],[51,15,51,16],[51,17,51,18],[48,5,48,6],[48,7,48,8],[48,9,48,10],[48,15,48,16],[48,17,48,18],[49,5,49,6],[49,7,49,8],[49,9,49,10],[49,15,49,16],[49,17,49,18],[46,5,46,6],[46,7,46,8],[46,9,46,10],[46,15,46,16],[46,17,46,18],[47,5,47,6],[47,7,47,8],[47,9,47,10],[47,15,47,16],[47,17,47,18],[45,17,45,18],[45,5,45,6],[45,7,45,8],[45,9,45,10],[45,15,45,16],[44,17,44,18],[43,5,43,6],[43,7,43,8],[43,9,43,10],[43,15,43,16],[43,17,43,18],[44,5,44,6],[44,7,44,8],[44,9,44,10],[44,15,44,16],[42,17,42,18],[41,5,41,6],[41,7,41,8],[41,9,41,10],[41,15,41,16],[41,17,41,18],[42,5,42,6],[42,7,42,8],[42,9,42,10],[42,15,42,16],[40,17,40,18],[39,5,39,6],[39,7,39,8],[39,9,39,10],[39,15,39,16],[39,17,39,18],[40,5,40,6],[40,7,40,8],[40,9,40,10],[40,15,40,16],[38,17,38,18],[37,5,37,6],[37,7,37,8],[37,9,37,10],[37,15,37,16],[37,17,37,18],[38,5,38,6],[38,7,38,8],[38,9,38,10],[38,15,38,16],[36,17,36,18],[35,5,35,6],[35,7,35,8],[35,9,35,10],[35,15,35,16],[35,17,35,18],[36,5,36,6],[36,7,36,8],[36,9,36,10],[36,15,36,16],[34,17,34,18],[33,5,33,6],[33,7,33,8],[33,9,33,10],[33,15,33,16],[33,17,33,18],[34,5,34,6],[34,7,34,8],[34,9,34,10],[34,15,34,16],[32,17,32,18],[31,5,31,6],[31,7,31,8],[31,9,31,10],[31,15,31,16],[31,17,31,18],[32,5,32,6],[32,7,32,8],[32,9,32,10],[32,15,32,16],[30,17,30,18],[29,5,29,6],[29,7,29,8],[29,9,29,10],[29,15,29,16],[29,17,29,18],[30,5,30,6],[30,7,30,8],[30,9,30,10],[30,15,30,16],[28,17,28,18],[27,5,27,6],[27,7,27,8],[27,9,27,10],[27,15,27,16],[27,17,27,18],[28,5,28,6],[28,7,28,8],[28,9,28,10],[28,15,28,16],[26,17,26,18],[25,5,25,6],[25,7,25,8],[25,9,25,10],[25,15,25,16],[25,17,25,18],[26,5,26,6],[26,7,26,8],[26,9,26,10],[26,15,26,16],[24,17,24,18],[23,5,23,6],[23,7,23,8],[23,9,23,10],[23,15,23,16],[23,17,23,18],[24,5,24,6],[24,7,24,8],[24,9,24,10],[24,15,24,16],[22,17,22,18],[21,5,21,6],[21,7,21,8],[21,9,21,10],[21,15,21,16],[21,17,21,18],[22,5,22,6],[22,7,22,8],[22,9,22,10],[22,15,22,16],[20,17,20,18],[19,5,19,6],[19,7,19,8],[19,9,19,10],[19,15,19,16],[19,17,19,18],[20,5,20,6],[20,7,20,8],[20,9,20,10],[20,15,20,16],[18,17,18,18],[17,5,17,6],[17,7,17,8],[17,9,17,10],[17,15,17,16],[17,17,17,18],[18,5,18,6],[18,7,18,8],[18,9,18,10],[18,15,18,16],[16,17,16,18],[15,5,15,6],[15,7,15,8],[15,9,15,10],[15,15,15,16],[15,17,15,18],[16,5,16,6],[16,7,16,8],[16,9,16,10],[16,15,16,16],[14,17,14,18],[13,5,13,6],[13,7,13,8],[13,9,13,10],[13,15,13,16],[13,17,13,18],[14,5,14,6],[14,7,14,8],[14,9,14,10],[14,15,14,16],[12,17,12,18],[11,5,11,6],[11,7,11,8],[11,9,11,10],[11,15,11,16],[11,17,11,18],[12,5,12,6],[12,7,12,8],[12,9,12,10],[12,15,12,16],[10,17,10,18],[9,5,9,6],[9,7,9,8],[9,9,9,10],[9,15,9,16],[9,17,9,18],[10,5,10,6],[10,7,10,8],[10,9,10,10],[10,15,10,16],[8,17,8,18],[7,5,7,6],[7,7,7,8],[7,9,7,10],[7,15,7,16],[7,17,7,18],[8,5,8,6],[8,7,8,8],[8,9,8,10],[8,15,8,16],[6,5,6,6],[3,1,3,9],[3,10,3,18],[4,5,4,6],[4,7,4,8],[6,7,6,8],[6,9,6,10],[6,15,6,16],[5,5,5,6],[5,3,5,4],[4,17,4,18],[6,17,6,18],[5,17,5,18],[5,7,5,8],[5,15,5,16],[4,15,4,16],[4,9,5,10],[5,13,5,14]]}
[]
[null,"記録用チェックシートです"]
[]
[null,"Home Team (A)  ",null,null,null,null,null,null,null,null,"Visiting Team (B)"]
[null,"G","A1","A2","＃","GS",null,"GK",null,"Time",null,"G","A1","A2","＃","GS",null,"GK"]
[null,"No.","Min","Offence",null,"Start",null,"End",null,null,null,"No.","Min","Offence",null,"Start",null,"End"]
[null,null,null,null,null,null,null,null,null,"00:00"]

{"sheet":"ＧＪ用ショット集計表 (記入例)","index":2,"n_rows":44,"n_cols":32,"rows_kept":44,"cut":false,"hidden":false,"merged":[[40,18,42,18],[40,29,42,29],[40,30,42,30],[40,31,45,31],[43,2,45,2],[43,13,45,13],[43,14,45,14],[43,18,45,18],[43,29,45,29],[43,30,45,30],[40,1,45,1],[40,2,42,2],[40,13,42,13],[40,14,42,14],[40,15,45,15],[40,17,45,17],[34,18,36,18],[34,29,36,29],[34,30,36,30],[34,31,39,31],[37,2,39,2],[37,13,39,13],[37,14,39,14],[37,18,39,18],[37,29,39,29],[37,30,39,30],[34,1,39,1],[34,2,36,2],[34,13,36,13],[34,14,36,14],[34,15,39,15],[34,17,39,17],[24,18,28,18],[24,29,28,29],[24,30,28,30],[24,31,33,31],[29,2,33,2],[29,13,33,13],[29,14,33,14],[29,18,33,18],[29,29,33,29],[29,30,33,30],[24,1,33,1],[24,2,28,2],[24,13,28,13],[24,14,28,14],[24,15,33,15],[24,17,33,17],[14,18,18,18],[14,29,18,29],[14,30,18,30],[14,31,23,31],[19,2,23,2],[19,13,23,13],[19,14,23,14],[19,18,23,18],[19,29,23,29],[19,30,23,30],[14,1,23,1],[14,2,18,2],[14,13,18,13],[14,14,18,14],[14,15,23,15],[14,17,23,17],[4,30,8,30],[4,31,13,31],[9,2,13,2],[9,13,13,13],[9,14,13,14],[9,18,13,18],[9,29,13,29],[9,30,13,30],[1,1,1,15],[1,17,1,31],[4,1,13,1],[4,2,8,2],[4,13,8,13],[4,14,8,14],[4,15,13,15],[4,17,13,17],[4,18,8,18],[4,29,8,29]]}
[]
[null,"　　Ａチーム名　　　　　神奈川レッドスターズ",null,null,null,null,null,null,null,null,null,null,null,null,null,null,null,"　　Ｂチーム名　　　新横浜ブルーインパルス"]
[]
[null,"Ｐ","No.",1,2,3,4,5,6,7,8,9,0,"セーブ数","失点","相手チームシュート数",null,"Ｐ","No.",1,2,3,4,5,6,7,8,9,0,"セーブ数","失点","相手チームシュート数"]
[null,"１Ｐ",33,null,null,null,null,null,null,null,null,null,null,12,1,13,null,"１Ｐ",55,null,null,null,null,null,null,null,null,null,null,16,0,16]
[]
[]
[]
[]
[null,null,"ー",null,null,null,null,null,null,null,null,null,null,"ー","ー",null,null,null,"ー",null,null,null,null,null,null,null,null,null,null,"ー","ー"]
[]
[]
[]
[]
[null,"２Ｐ",33,null,null,null,null,null,null,null,null,null,null,16,0,16,null,"２Ｐ",55,null,null,null,null,null,null,null,null,null,null,15,1,25]
[]
[]
[]
[]
[null,null,"ー",null,null,null,null,null,null,null,null,null,null,"ー","ー",null,null,null,30,null,null,null,null,null,null,null,null,null,null,8,1]
[]
[]
[]
[]
[null,"３Ｐ","ー",null,null,null,null,null,null,null,null,null,null,"ー","ー",20,null,"３Ｐ","ー",null,null,null,null,null,null,null,null,null,null,"ー","ー",21]
[]
[]
[]
[]
[null,null,1,null,null,null,null,null,null,null,null,null,null,18,2,null,null,null,30,null,null,null,null,null,null,null,null,null,null,20,1]
[]
[]
[]
[]
[null,"ＯＴ","ー",null,null,null,null,null,null,null,null,null,null,"ー","ー",7,null,"ＯＴ",55,null,null,null,null,null,null,null,null,null,null,4,1,11]
[]
[]
[null,null,1,null,null,null,null,null,null,null,null,null,null,7,0,null,null,null,30,null,null,null,null,null,null,null,null,null,null,6,0]
[]
[]
[null,"合計",33,null,null,null,null,null,null,null,null,null,null,28,1,56,null,"合計",55,null,null,null,null,null,null,null,null,null,null,35,2,73]
[]
[]
[null,null,1,null,null,null,null,null,null,null,null,null,null,25,2,null,null,null,30,null,null,null,null,null,null,null,null,null,null,34,2]

{"sheet":"ＧＪ用ショット集計表","index":3,"n_rows":48,"n_cols":32,"rows_kept":48,"cut":false,"hidden":false,"merged":[[47,1,50,15],[43,29,45,29],[43,30,45,30],[34,31,39,31],[37,18,39,18],[37,29,39,29],[37,30,39,30],[40,17,45,17],[40,18,42,18],[40,29,42,29],[40,30,42,30],[40,31,45,31],[43,18,45,18],[29,29,33,29],[29,30,33,30],[34,17,39,17],[34,18,36,18],[34,29,36,29],[34,30,36,30],[14,31,23,31],[19,18,23,18],[19,29,23,29],[19,30,23,30],[24,17,33,17],[24,18,28,18],[24,29,28,29],[24,30,28,30],[24,31,33,31],[29,18,33,18],[9,29,13,29],[9,30,13,30],[14,17,23,17],[14,18,18,18],[14,29,18,29],[14,30,18,30],[43,2,45,2],[43,13,45,13],[43,14,45,14],[1,17,1,31],[4,17,13,17],[4,18,8,18],[4,29,8,29],[4,30,8,30],[4,31,13,31],[9,18,13,18],[37,13,39,13],[34,14,36,14],[37,14,39,14],[34,15,39,15],[1,1,1,15],[40,1,45,1],[40,2,42,2],[40,13,42,13],[40,14,42,14],[40,15,45,15],[24,13,28,13],[24,14,28,14],[24,15,33,15],[29,13,33,13],[29,14,33,14],[34,13,36,13],[4,13,8,13],[9,13,13,13],[4,14,8,14],[9,14,13,14],[4,15,13,15],[14,13,18,13],[14,14,18,14],[14,15,23,15],[19,13,23,13],[19,14,23,14],[24,1,33,1],[24,2,28,2],[29,2,33,2],[34,2,36,2],[37,2,39,2],[34,1,39,1],[4,2,8,2],[9,2,13,2],[4,1,13,1],[14,1,23,1],[14,2,18,2],[19,2,23,2]]}
[]
[null,"　　Ａチーム名",null,null,null,null,null,null,null,null,null,null,null,null,null,null,null,"　　Ｂチーム名"]
[]
[null,"Ｐ","No.",1,2,3,4,5,6,7,8,9,0,"セーブ数","失点","相手チームシュート数",null,"Ｐ","No.",1,2,3,4,5,6,7,8,9,0,"セーブ数","失点","相手チームシュート数"]
[null,"１Ｐ",null,null,null,null,null,null,null,null,null,null,null,null,null,null,null,"１Ｐ"]
[]
[]
[]
[]
[]
[]
[]
[]
[]
[null,"２Ｐ",null,null,null,null,null,null,null,null,null,null,null,null,null,null,null,"２Ｐ"]
[]
[]
[]
[]
[]
[]
[]
[]
[]
[null,"３Ｐ",null,null,null,null,null,null,null,null,null,null,null,null,null,null,null,"３Ｐ"]
[]
[]
[]
[]
[]
[]
[]
[]
[]
[null,"ＯＴ",null,null,null,null,null,null,null,null,null,null,null,null,null,null,null,"ＯＴ"]
[]
[]
[]
[]
[]
[null,"合計",null,null,null,null,null,null,null,null,null,null,null,null,null,null,null,"合計"]
[]
[]
[]
[]
[]
[]
[null,"印刷して用紙を半分に切り離して、ＧＪが使用して下さい。　　　　　　　　　　　　　　　ピリオド毎に用紙を交換して１チームを追っかけて下さい。"]

{"sheet":"GameSheet","index":4,"n_rows":109,"n_cols":56,"rows_kept":109,"cut":false,"hidden":false,"merged":[[108,30,108,32],[108,33,108,34],[108,35,108,36],[106,30,106,32],[106,33,106,34],[106,35,106,36],[107,30,107,32],[107,33,107,34],[107,35,107,36],[104,30,104,32],[104,33,104,34],[104,35,104,36],[105,30,105,32],[105,33,105,34],[105,35,105,36],[101,33,101,34],[101,35,101,36],[100,30,100,32],[100,33,100,34],[102,35,102,36],[103,30,103,32],[103,33,103,34],[103,35,103,36],[102,30,102,32],[102,33,102,34],[96,30,96,32],[96,33,96,34],[107,24,107,25],[107,26,107,27],[98,35,98,36],[99,30,99,32],[98,24,98,25],[101,24,101,25],[100,35,100,36],[101,30,101,32],[105,21,105,23],[105,24,105,25],[105,26,105,27],[108,21,108,23],[108,24,108,25],[108,26,108,27],[106,21,106,23],[106,24,106,25],[106,26,106,27],[107,21,107,23],[99,21,99,23],[99,24,99,25],[99,26,99,27],[101,21,101,23],[108,44,108,45],[106,42,106,43],[106,44,106,45],[107,42,107,43],[107,44,107,45],[102,21,102,23],[102,24,102,25],[102,26,102,27],[108,42,108,43],[104,21,104,23],[104,24,104,25],[104,26,104,27],[103,26,103,27],[103,21,103,23],[103,24,103,25],[105,42,105,43],[98,21,98,23],[106,39,106,41],[108,39,108,41],[100,39,100,41],[100,21,100,23],[100,24,100,25],[100,26,100,27],[107,39,107,41],[105,39,105,41],[101,26,101,27],[105,44,105,45],[104,39,104,41],[103,39,103,41],[103,42,103,43],[103,44,103,45],[104,42,104,43],[104,44,104,45],[101,39,101,41],[101,42,101,43],[101,44,101,45],[102,42,102,43],[102,44,102,45],[102,39,102,41],[99,39,99,41],[99,44,99,45],[99,42,99,43],[99,33,99,34],[99,35,99,36],[98,30,98,32],[98,33,98,34],[96,44,96,45],[97,39,97,41],[98,39,98,41],[98,42,98,43],[98,44,98,45],[98,26,98,27],[96,35,96,36],[97,30,97,32],[97,33,97,34],[97,35,97,36],[54,40,54,41],[62,38,62,44],[100,42,100,43],[100,44,100,45],[96,21,96,23],[96,24,96,25],[96,26,96,27],[97,21,97,23],[97,24,97,25],[97,26,97,27],[20,14,20,18],[16,1,16,13],[18,14,18,18],[19,14,19,18],[97,42,97,43],[97,44,97,45],[96,39,96,41],[96,42,96,43],[54,17,54,20],[54,11,54,16],[22,1,22,13],[23,14,23,18],[24,14,24,18],[23,1,23,13],[24,1,24,13],[21,1,21,13],[15,1,15,13],[14,14,14,18],[17,19,17,20],[18,19,18,20],[21,19,21,20],[32,19,32,20],[26,19,26,20],[28,6,29,20],[19,1,19,13],[20,1,20,13],[33,46,33,49],[33,41,33,43],[27,46,27,49],[38,14,38,18],[41,14,41,18],[39,14,39,18],[33,19,33,20],[34,19,34,20],[36,19,36,20],[35,19,35,20],[18,52,18,53],[11,52,11,53],[17,50,17,51],[12,52,12,53],[11,50,11,51],[14,50,14,51],[14,52,14,53],[61,50,61,51],[61,25,61,26],[56,52,56,53],[57,50,57,51],[62,50,62,51],[58,50,58,51],[60,50,60,51],[61,52,61,53],[62,52,62,53],[60,52,60,53],[57,25,57,26],[66,26,66,32],[56,50,56,51],[58,33,58,35],[58,36,58,38],[57,36,57,38],[57,33,57,35],[62,47,62,49],[60,47,60,49],[62,21,62,25],[59,23,59,24],[38,19,38,20],[41,19,41,20],[40,19,40,20],[55,40,55,41],[56,36,56,37],[56,38,56,39],[56,34,56,35],[57,39,57,41],[46,41,46,43],[27,14,27,18],[25,14,25,18],[26,14,26,18],[31,19,31,20],[30,19,30,20],[17,46,17,49],[23,41,23,43],[20,46,20,49],[31,41,31,43],[28,41,29,53],[34,50,34,51],[10,52,10,53],[9,50,9,51],[17,52,17,53],[16,52,16,53],[27,41,27,43],[22,46,22,49],[9,52,9,53],[23,46,23,49],[18,50,18,51],[38,50,38,51],[8,52,8,53],[34,22,34,24],[27,22,27,24],[21,22,21,24],[22,22,22,24],[23,22,23,24],[24,22,24,24],[26,22,26,24],[34,52,34,53],[0,0,0,21],[0,24,0,40],[1,19,1,21],[13,46,13,49],[3,41,4,53],[10,50,10,51],[1,52,1,53],[12,50,12,51],[13,52,13,53],[13,50,13,51],[54,38,54,39],[55,34,55,35],[52,41,52,43],[50,33,50,34],[28,35,51,40],[43,41,43,43],[51,41,51,43],[54,36,54,37],[40,41,40,43],[45,33,45,34],[35,50,35,51],[37,52,37,53],[39,52,39,53],[39,50,39,51],[35,52,35,53],[44,52,44,53],[36,52,36,53],[37,50,37,51],[36,50,36,51],[38,52,38,53],[43,46,43,49],[48,50,48,51],[46,46,46,49],[41,52,41,53],[47,50,47,51],[45,50,45,51],[47,52,47,53],[48,46,48,49],[47,46,47,49],[42,52,42,53],[61,47,61,49],[64,47,64,49],[49,41,49,43],[49,50,49,51],[51,46,51,49],[54,47,54,49],[58,47,58,49],[64,50,64,51],[52,46,52,49],[50,46,50,49],[62,26,62,32],[64,26,64,32],[58,52,58,53],[59,50,59,51],[59,52,59,53],[63,26,63,32],[64,52,64,53],[58,27,58,28],[63,33,63,37],[63,50,63,51],[57,21,57,22],[64,33,64,37],[63,47,63,49],[60,27,60,28],[62,33,62,37],[59,30,59,34],[59,47,59,49],[59,35,59,41],[61,27,61,28],[63,38,63,44],[55,23,55,24],[54,21,54,22],[56,21,56,22],[59,25,59,26],[59,27,59,28],[60,25,60,26],[60,23,60,24],[59,21,59,22],[58,21,58,22],[58,23,58,24],[58,25,58,26],[55,32,55,33],[57,27,57,28],[57,30,57,32],[52,29,52,34],[55,38,55,39],[58,39,58,41],[56,40,56,41],[54,34,54,35],[54,25,54,26],[55,30,55,31],[56,25,56,26],[56,27,56,28],[56,30,56,31],[54,32,54,33],[54,27,54,28],[55,27,55,28],[58,30,58,32],[54,50,54,51],[57,52,57,53],[56,32,56,33],[56,47,56,49],[57,47,57,49],[55,36,55,37],[55,52,55,53],[55,47,55,49],[55,50,55,51],[52,50,52,51],[47,41,47,43],[51,33,51,34],[52,52,52,53],[55,25,55,26],[48,41,48,43],[50,41,50,43],[54,52,54,53],[48,52,48,53],[54,30,54,31],[51,52,51,53],[50,50,50,51],[49,46,49,49],[46,50,46,51],[50,52,50,53],[46,52,46,53],[49,52,49,53],[51,50,51,51],[45,46,45,49],[42,50,42,51],[41,41,41,43],[43,52,43,53],[42,46,42,49],[44,50,44,51],[45,41,45,43],[43,50,43,51],[45,52,45,53],[44,46,44,49],[40,50,40,51],[40,52,40,53],[35,46,35,49],[35,41,35,43],[41,46,41,49],[44,41,44,43],[41,50,41,51],[38,41,38,43],[37,41,37,43],[38,46,38,49],[42,41,42,43],[39,41,39,43],[21,41,21,43],[22,41,22,43],[25,41,25,43],[32,41,32,43],[30,41,30,43],[36,41,36,43],[24,41,24,43],[34,41,34,43],[25,52,25,53],[31,50,31,51],[27,52,27,53],[27,50,27,51],[30,52,30,53],[24,52,24,53],[24,50,24,51],[25,50,25,51],[37,46,37,49],[40,46,40,49],[39,46,39,49],[26,46,26,49],[25,46,25,49],[32,46,32,49],[31,46,31,49],[30,46,30,49],[34,46,34,49],[36,46,36,49],[33,52,33,53],[32,50,32,51],[26,50,26,51],[33,50,33,51],[31,52,31,53],[30,50,30,51],[32,52,32,53],[26,52,26,53],[23,52,23,53],[22,52,22,53],[21,50,21,51],[21,52,21,53],[22,50,22,51],[14,33,14,34],[20,41,20,43],[23,50,23,51],[15,52,15,53],[14,46,14,49],[19,52,19,53],[20,52,20,53],[20,50,20,51],[18,46,18,49],[19,46,19,49],[15,46,15,49],[16,50,16,51],[19,50,19,51],[16,46,16,49],[15,50,15,51],[26,41,26,43],[10,33,10,34],[21,46,21,49],[13,33,13,34],[14,41,14,43],[18,41,18,43],[17,41,17,43],[24,46,24,49],[10,41,10,43],[11,41,11,43],[8,14,8,18],[11,46,11,49],[19,33,19,34],[17,33,17,34],[15,41,15,43],[9,41,9,43],[8,41,8,43],[14,22,14,24],[12,46,12,49],[10,46,10,49],[8,33,8,34],[17,14,17,18],[15,19,15,20],[22,14,22,18],[12,19,12,20],[10,19,10,20],[11,19,11,20],[10,14,10,18],[9,14,9,18],[11,14,11,18],[15,14,15,18],[16,14,16,18],[13,41,13,43],[16,19,16,20],[18,33,18,34],[14,19,14,20],[13,19,13,20],[16,41,16,43],[3,35,26,40],[23,19,23,20],[12,41,12,43],[19,41,19,43],[6,1,6,13],[6,22,6,24],[5,22,5,24],[5,1,5,13],[7,14,7,18],[12,1,12,13],[13,1,13,13],[9,19,9,20],[10,1,10,13],[9,46,9,49],[5,14,5,18],[6,14,6,18],[7,1,7,13],[7,46,7,49],[5,19,5,20],[9,33,9,34],[9,1,9,13],[7,22,7,24],[8,1,8,13],[8,50,8,51],[7,19,7,20],[6,19,6,20],[8,46,8,49],[6,33,6,34],[7,33,7,34],[8,22,8,24],[6,41,6,43],[8,19,8,20],[7,41,7,43],[1,0,1,1],[3,0,4,5],[1,2,1,18],[1,46,1,48],[1,38,1,39],[3,21,4,28],[3,6,4,20],[3,29,4,34],[1,22,1,29],[1,30,1,31],[1,32,1,37],[1,43,1,45],[5,52,5,53],[5,50,5,51],[5,41,5,43],[5,46,5,49],[5,33,5,34],[1,40,1,42],[1,49,1,51],[6,52,6,53],[7,52,7,53],[7,50,7,51],[17,22,17,24],[13,22,13,24],[15,33,15,34],[15,22,15,24],[9,22,9,24],[6,50,6,51],[6,46,6,49],[44,22,44,24],[37,1,37,13],[42,1,42,13],[31,14,31,18],[31,1,31,13],[18,1,18,13],[18,22,18,24],[19,22,19,24],[25,22,25,24],[28,21,29,28],[36,22,36,24],[43,22,43,24],[22,19,22,20],[17,1,17,13],[21,14,21,18],[32,1,32,13],[20,22,20,24],[33,14,33,18],[30,14,30,18],[25,19,25,20],[24,19,24,20],[19,19,19,20],[20,19,20,20],[16,22,16,24],[31,22,31,24],[30,22,30,24],[27,19,27,20],[48,1,48,13],[48,14,48,18],[43,19,43,20],[45,14,45,18],[48,19,48,20],[46,14,46,18],[43,14,43,18],[44,19,44,20],[46,1,46,13],[47,14,47,18],[27,1,27,13],[39,1,39,13],[35,1,35,13],[47,19,47,20],[42,14,42,18],[42,19,42,20],[44,14,44,18],[45,19,45,20],[37,19,37,20],[34,14,34,18],[35,14,35,18],[32,14,32,18],[47,1,47,13],[14,1,14,13],[33,1,33,13],[34,1,34,13],[38,1,38,13],[26,1,26,13],[25,1,25,13],[28,0,29,5],[46,19,46,20],[52,1,52,13],[52,14,52,18],[49,14,49,18],[50,14,50,18],[36,14,36,18],[37,14,37,18],[39,19,39,20],[52,19,52,20],[51,14,51,18],[49,1,49,13],[49,19,49,20],[54,0,54,1],[53,16,53,17],[53,0,53,11],[53,12,53,15],[58,0,58,1],[58,15,58,16],[56,0,56,1],[55,11,55,12],[58,13,58,14],[57,0,57,1],[55,13,55,14],[57,13,57,14],[57,15,57,16],[64,0,64,5],[65,0,65,5],[61,0,61,20],[66,6,66,20],[62,6,62,20],[60,0,60,1],[66,0,66,5],[60,13,60,14],[65,21,65,25],[61,21,61,22],[76,22,76,24],[66,21,66,25],[60,18,60,19],[63,21,63,25],[75,22,75,24],[64,21,64,25],[64,6,64,20],[60,21,60,22],[68,6,68,53],[76,33,76,34],[75,33,75,34],[66,47,66,49],[65,33,66,37],[65,38,66,44],[65,52,65,53],[65,47,65,49],[65,50,65,51],[66,52,66,53],[66,50,66,51],[65,26,65,32],[86,4,86,19],[78,22,78,24],[82,22,82,24],[68,0,68,4],[82,33,82,34],[83,22,83,24],[86,22,86,24],[81,22,81,24],[81,33,81,34],[86,33,86,34],[50,19,50,20],[79,22,79,24],[79,33,79,34],[78,33,78,34],[63,6,63,20],[57,23,57,24],[56,13,56,14],[56,18,56,19],[50,22,50,24],[51,22,51,24],[48,22,48,24],[55,21,55,22],[57,18,57,19],[55,18,55,19],[54,23,54,24],[56,23,56,24],[52,22,52,24],[53,21,53,24],[47,22,47,24],[27,29,27,34],[51,19,51,20],[40,22,40,24],[37,22,37,24],[38,22,38,24],[39,22,39,24],[49,22,49,24],[33,33,33,34],[35,33,35,34],[25,33,25,34],[26,33,26,34],[20,33,20,34],[21,33,21,34],[28,29,29,34],[46,22,46,24],[42,22,42,24],[32,33,32,34],[33,22,33,24],[39,33,39,34],[22,33,22,34],[23,33,23,34],[24,33,24,34],[11,33,11,34],[12,33,12,34],[10,22,10,24],[12,22,12,24],[11,22,11,24],[16,33,16,34],[11,1,11,13],[12,14,12,18],[13,14,13,18],[44,33,44,34],[45,1,45,13],[43,1,43,13],[44,1,44,13],[30,1,30,13],[41,1,41,13],[36,1,36,13],[85,33,85,34],[27,35,27,40],[52,35,52,40],[40,33,40,34],[41,33,41,34],[34,33,34,34],[48,33,48,34],[31,33,31,34],[37,33,37,34],[36,33,36,34],[64,38,64,44],[49,33,49,34],[47,33,47,34],[40,1,40,13],[40,14,40,18],[30,33,30,34],[32,22,32,24],[45,22,45,24],[41,22,41,24],[35,22,35,24],[38,33,38,34],[87,22,87,24],[87,33,87,34],[73,21,74,28],[73,29,74,34],[83,33,83,34],[85,22,85,24],[46,33,46,34],[42,33,42,34],[43,33,43,34],[63,52,63,53],[50,1,50,13],[54,2,54,4],[65,6,65,20],[56,11,56,12],[62,0,62,5],[54,5,54,7],[54,8,54,10],[55,0,55,1],[59,13,59,14],[91,21,92,21],[91,22,91,31],[92,22,92,45],[91,0,92,5],[91,6,92,20],[59,18,59,19],[63,0,63,5],[60,11,60,12],[60,15,60,16],[61,23,61,24],[59,11,59,12],[59,15,59,16],[51,1,51,13],[53,19,53,20],[58,11,58,12],[58,18,58,19],[55,15,55,16],[56,15,56,16],[59,0,59,1],[57,11,57,12]]}
["OFFICIAL GAME SHEET",null,null,null,null,null,null,null,null,null,null,null,null,null,null,null,null,null,null,null,null,null,"160414ｊｒｌ",null,"KANAGAWA ICE HOCKEY FEDERATION",null,null,null,null,null,null,null,null,null,null,null,null,null,null,null,null,null,null,null,null,null,null,null,null,null,null,"K.I.H.F",null,null,null,"1ピリ時間"]
["Event:",null,"第27回　春季小中女子神奈川選手権",null,null,null,null,null,null,null,null,null,null,null,null,null,null,null,null,"Place:",null,null,"相模原銀河アリーナ",null,null,null,null,null,null,null,"Date:",null,null,null,null,null,null,null,"Start:",null,"12:00",null,null,"Spectators:",null,null,"-",null,null,"Game No.:",null,null,null,null,null,"2000"]
[]
["Team (A)",null,null,null,null,null,null,null,null,null,null,null,null,null,null,null,null,null,null,null,null,"Goals",null,null,null,null,null,null,null,"Game Winning Shots",null,null,null,null,null,null,null,null,null,null,null,"Penalties"]
[]
["No.","Family and Given Name",null,null,null,null,null,null,null,null,null,null,null,null,"(+BP+C/A)",null,null,null,null,"Pos",null,"#","Time",null,null,"G","A1","A2","GS","A","B","GKA","GKB","GF:GA",null,null,null,null,null,null,null,"Time",null,null,"No.","Min","Offence",null,null,null,"Start",null,"End"]
[{"$f":"IF(TeamA!C4=\"\",\"\",TeamA!C4)","v":"-"},{"$f":"IF(TeamA!D4=\"\",\"\",TeamA!D4)","v":"-"},null,null,null,null,null,null,null,null,null,null,null,null,{"$f":"IF(TeamA!E4=\"\",\"\",TeamA!E4)","v":""},null,null,null,null,{"$f":"IF(TeamA!F4=\"\",\"\",TeamA!F4)","v":"G"},null,null,null,null,null,null,null,null,null,null,null,null,null,null,null,null,null,null,null,null,null,null,null,null,null,null,null,null,null,null,{"$f":"IF(AP7=\"\",\"\",AP7)","v":""}]
[{"$f":"IF(TeamA!C5=\"\",\"\",TeamA!C5)","v":"-"},{"$f":"IF(TeamA!D5=\"\",\"\",TeamA!D5)","v":"-"},null,null,null,null,null,null,null,null,null,null,null,null,{"$f":"IF(TeamA!E5=\"\",\"\",TeamA!E5)","v":""},null,null,null,null,{"$f":"IF(TeamA!F5=\"\",\"\",TeamA!F5)","v":"-"},null,null,null,null,null,null,null,null,null,null,null,null,null,null,null,null,null,null,null,null,null,null,null,null,null,null,null,null,null,null,{"$f":"IF(AP8=\"\",\"\",AP8)","v":""}]
[{"$f":"IF(TeamA!C6=\"\",\"\",TeamA!C6)","v":"-"},{"$f":"IF(TeamA!D6=\"\",\"\",TeamA!D6)","v":"-"},null,null,null,null,null,null,null,null,null,null,null,null,{"$f":"IF(TeamA!E6=\"\",\"\",TeamA!E6)","v":""},null,null,null,null,{"$f":"IF(TeamA!F6=\"\",\"\",TeamA!F6)","v":"-"},null,null,null,null,null,null,null,null,null,null,null,null,null,null,null,null,null,null,null,null,null,null,null,null,null,null,null,null,null,null,{"$f":"IF(AP9=\"\",\"\",AP9)","v":""}]
[{"$f":"IF(TeamA!C7=\"\",\"\",TeamA!C7)","v":"-"},{"$f":"IF(TeamA!D7=\"\",\"\",TeamA!D7)","v":"-"},null,null,null,null,null,null,null,null,null,null,null,null,{"$f":"IF(TeamA!E7=\"\",\"\",TeamA!E7)","v":""},null,null,null,null,{"$f":"IF(TeamA!F7=\"\",\"\",TeamA!F7)","v":"-"},null,null,null,null,null,null,null,null,null,null,null,null,null,null,null,null,null,null,null,null,null,null,null,null,null,null,null,null,null,null,""]
[{"$f":"IF(TeamA!C8=\"\",\"\",TeamA!C8)","v":"-"},{"$f":"IF(TeamA!D8=\"\",\"\",TeamA!D8)","v":"-"},null,null,null,null,null,null,null,null,null,null,null,null,{"$f":"IF(TeamA!E8=\"\",\"\",TeamA!E8)","v":""},null,null,null,null,{"$f":"IF(TeamA!F8=\"\",\"\",TeamA!F8)","v":"-"},null,null,null,null,null,null,null,null,null,null,null,null,null,null,null,null,null,null,null,null,null,null,null,null,null,null,null,null,null,null,""]
[{"$f":"IF(TeamA!C9=\"\",\"\",TeamA!C9)","v":"-"},{"$f":"IF(TeamA!D9=\"\",\"\",TeamA!D9)","v":"-"},null,null,null,null,null,null,null,null,null,null,null,null,{"$f":"IF(TeamA!E9=\"\",\"\",TeamA!E9)","v":""},null,null,null,null,{"$f":"IF(TeamA!F9=\"\",\"\",TeamA!F9)","v":"-"},null,null,null,null,null,null,null,null,null,null,null,null,null,null,null,null,null,null,null,null,null,null,null,null,null,null,null,null,null,null,""]
[{"$f":"IF(TeamA!C10=\"\",\"\",TeamA!C10)","v":"-"},{"$f":"IF(TeamA!D10=\"\",\"\",TeamA!D10)","v":"-"},null,null,null,null,null,null,null,null,null,null,null,null,{"$f":"IF(TeamA!E10=\"\",\"\",TeamA!E10)","v":""},null,null,null,null,{"$f":"IF(TeamA!F10=\"\",\"\",TeamA!F10)","v":"-"},null,null,null,null,null,null,null,null,null,null,null,null,null,null,null,null,null,null,null,null,null,null,null,null,null,null,null,null,null,null,""]
[{"$f":"IF(TeamA!C11=\"\",\"\",TeamA!C11)","v":"-"},{"$f":"IF(TeamA!D11=\"\",\"\",TeamA!D11)","v":"-"},null,null,null,null,null,null,null,null,null,null,null,null,{"$f":"IF(TeamA!E11=\"\",\"\",TeamA!E11)","v":""},null,null,null,null,{"$f":"IF(TeamA!F11=\"\",\"\",TeamA!F11)","v":"-"},null,null,null,null,null,null,null,null,null,null,null,null,null,null,null,null,null,null,null,null,null,null,null,null,null,null,null,null,null,null,""]
[{"$f":"IF(TeamA!C12=\"\",\"\",TeamA!C12)","v":"-"},{"$f":"IF(TeamA!D12=\"\",\"\",TeamA!D12)","v":"-"},null,null,null,null,null,null,null,null,null,null,null,null,{"$f":"IF(TeamA!E12=\"\",\"\",TeamA!E12)","v":""},null,null,null,null,{"$f":"IF(TeamA!F12=\"\",\"\",TeamA!F12)","v":"-"},null,null,null,null,null,null,null,null,null,null,null,null,null,null,null,null,null,null,null,null,null,null,null,null,null,null,null,null,null,null,""]
[{"$f":"IF(TeamA!C13=\"\",\"\",TeamA!C13)","v":"-"},{"$f":"IF(TeamA!D13=\"\",\"\",TeamA!D13)","v":"-"},null,null,null,null,null,null,null,null,null,null,null,null,{"$f":"IF(TeamA!E13=\"\",\"\",TeamA!E13)","v":""},null,null,null,null,{"$f":"IF(TeamA!F13=\"\",\"\",TeamA!F13)","v":"-"},null,null,null,null,null,null,null,null,null,null,null,null,null,null,null,null,null,null,null,null,null,null,null,null,null,null,null,null,null,null,""]
[{"$f":"IF(TeamA!C14=\"\",\"\",TeamA!C14)","v":"-"},{"$f":"IF(TeamA!D14=\"\",\"\",TeamA!D14)","v":"-"},null,null,null,null,null,null,null,null,null,null,null,null,{"$f":"IF(TeamA!E14=\"\",\"\",TeamA!E14)","v":""},null,null,null,null,{"$f":"IF(TeamA!F14=\"\",\"\",TeamA!F14)","v":"-"},null,null,null,null,null,null,null,null,null,null,null,null,null,null,null,null,null,null,null,null,null,null,null,null,null,null,null,null,null,null,""]
[{"$f":"IF(TeamA!C15=\"\",\"\",TeamA!C15)","v":"-"},{"$f":"IF(TeamA!D15=\"\",\"\",TeamA!D15)","v":"-"},null,null,null,null,null,null,null,null,null,null,null,null,{"$f":"IF(TeamA!E15=\"\",\"\",TeamA!E15)","v":""},null,null,null,null,{"$f":"IF(TeamA!F15=\"\",\"\",TeamA!F15)","v":"-"},null,null,null,null,null,null,null,null,null,null,null,null,null,null,null,null,null,null,null,null,null,null,null,null,null,null,null,null,null,null,""]
[{"$f":"IF(TeamA!C16=\"\",\"\",TeamA!C16)","v":"-"},{"$f":"IF(TeamA!D16=\"\",\"\",TeamA!D16)","v":"-"},null,null,null,null,null,null,null,null,null,null,null,null,{"$f":"IF(TeamA!E16=\"\",\"\",TeamA!E16)","v":""},null,null,null,null,{"$f":"IF(TeamA!F16=\"\",\"\",TeamA!F16)","v":"-"},null,null,null,null,null,null,null,null,null,null,null,null,null,null,null,null,null,null,null,null,null,null,null,null,null,null,null,null,null,null,""]
[{"$f":"IF(TeamA!C17=\"\",\"\",TeamA!C17)","v":"-"},{"$f":"IF(TeamA!D17=\"\",\"\",TeamA!D17)","v":"-"},null,null,null,null,null,null,null,null,null,null,null,null,{"$f":"IF(TeamA!E17=\"\",\"\",TeamA!E17)","v":""},null,null,null,null,{"$f":"IF(TeamA!F17=\"\",\"\",TeamA!F17)","v":"-"},null,null,null,null,null,null,null,null,null,null,null,null,null,null,null,null,null,null,null,null,null,null,null,null,null,null,null,null,null,null,""]
[{"$f":"IF(TeamA!C18=\"\",\"\",TeamA!C18)","v":"-"},{"$f":"IF(TeamA!D18=\"\",\"\",TeamA!D18)","v":"-"},null,null,null,null,null,null,null,null,null,null,null,null,{"$f":"IF(TeamA!E18=\"\",\"\",TeamA!E18)","v":""},null,null,null,null,{"$f":"IF(TeamA!F18=\"\",\"\",TeamA!F18)","v":"-"},null,null,null,null,null,null,null,null,null,null,null,null,null,null,null,null,null,null,null,null,null,null,null,null,null,null,null,null,null,null,""]
[{"$f":"IF(TeamA!C19=\"\",\"\",TeamA!C19)","v":"-"},{"$f":"IF(TeamA!D19=\"\",\"\",TeamA!D19)","v":"-"},null,null,null,null,null,null,null,null,null,null,null,null,{"$f":"IF(TeamA!E19=\"\",\"\",TeamA!E19)","v":""},null,null,null,null,{"$f":"IF(TeamA!F19=\"\",\"\",TeamA!F19)","v":"-"},null,null,null,null,null,null,null,null,null,null,null,null,null,null,null,null,null,null,null,null,null,null,null,null,null,null,null,null,null,null,""]
[{"$f":"IF(TeamA!C20=\"\",\"\",TeamA!C20)","v":"-"},{"$f":"IF(TeamA!D20=\"\",\"\",TeamA!D20)","v":"-"},null,null,null,null,null,null,null,null,null,null,null,null,{"$f":"IF(TeamA!E20=\"\",\"\",TeamA!E20)","v":""},null,null,null,null,{"$f":"IF(TeamA!F20=\"\",\"\",TeamA!F20)","v":"-"},null,null,null,null,null,null,null,null,null,null,null,null,null,null,null,null,null,null,null,null,null,null,null,null,null,null,null,null,null,null,""]
[{"$f":"IF(TeamA!C21=\"\",\"\",TeamA!C21)","v":"-"},{"$f":"IF(TeamA!D21=\"\",\"\",TeamA!D21)","v":"-"},null,null,null,null,null,null,null,null,null,null,null,null,{"$f":"IF(TeamA!E21=\"\",\"\",TeamA!E21)","v":""},null,null,null,null,{"$f":"IF(TeamA!F21=\"\",\"\",TeamA!F21)","v":"-"},null,null,null,null,null,null,null,null,null,null,null,null,null,null,null,null,null,null,null,null,null,null,null,null,null,null,null,null,null,null,""]
[{"$f":"IF(TeamA!C22=\"\",\"\",TeamA!C22)","v":"-"},{"$f":"IF(TeamA!D22=\"\",\"\",TeamA!D22)","v":"-"},null,null,null,null,null,null,null,null,null,null,null,null,{"$f":"IF(TeamA!E22=\"\",\"\",TeamA!E22)","v":""},null,null,null,null,{"$f":"IF(TeamA!F22=\"\",\"\",TeamA!F22)","v":"-"},null,null,null,null,null,null,null,null,null,null,null,null,null,null,null,null,null,null,null,null,null,null,null,null,null,null,null,null,null,null,""]
[{"$f":"IF(TeamA!C23=\"\",\"\",TeamA!C23)","v":"-"},{"$f":"IF(TeamA!D23=\"\",\"\",TeamA!D23)","v":"-"},null,null,null,null,null,null,null,null,null,null,null,null,{"$f":"IF(TeamA!E23=\"\",\"\",TeamA!E23)","v":""},null,null,null,null,{"$f":"IF(TeamA!F23=\"\",\"\",TeamA!F23)","v":"-"},null,null,null,null,null,null,null,null,null,null,null,null,null,null,null,null,null,null,null,null,null,null,null,null,null,null,null,null,null,null,""]
[{"$f":"IF(TeamA!C24=\"\",\"\",TeamA!C24)","v":"-"},{"$f":"IF(TeamA!D24=\"\",\"\",TeamA!D24)","v":"-"},null,null,null,null,null,null,null,null,null,null,null,null,{"$f":"IF(TeamA!E24=\"\",\"\",TeamA!E24)","v":""},null,null,null,null,{"$f":"IF(TeamA!F24=\"\",\"\",TeamA!F24)","v":"-"},null,null,null,null,null,null,null,null,null,null,null,null,null,null,null,null,null,null,null,null,null,null,null,null,null,null,null,null,null,null,""]
[{"$f":"IF(TeamA!C25=\"\",\"\",TeamA!C25)","v":"-"},{"$f":"IF(TeamA!D25=\"\",\"\",TeamA!D25)","v":"-"},null,null,null,null,null,null,null,null,null,null,null,null,{"$f":"IF(TeamA!E25=\"\",\"\",TeamA!E25)","v":""},null,null,null,null,{"$f":"IF(TeamA!F25=\"\",\"\",TeamA!F25)","v":"-"},null,null,null,null,null,null,null,null,null,"Team official in bench",null,null,null,null,null,{"$f":"IF(TeamA!D27=\"\",\"\",TeamA!D27)","v":"-"},null,null,null,null,null,null,null,null,null,null,null,null,null,null,""]
["Team (B)",null,null,null,null,null,null,null,null,null,null,null,null,null,null,null,null,null,null,null,null,"Goals",null,null,null,null,null,null,null,"Game Winning Shots",null,null,null,null,null,null,null,null,null,null,null,"Penalties"]
[]
["No.","Family and Given Name",null,null,null,null,null,null,null,null,null,null,null,null,"(+BP+C/A)",null,null,null,null,"Pos",null,"#","Time",null,null,"G","A1","A2","GS","A","B","GKA","GKB","GF:GA",null,null,null,null,null,null,null,"Time",null,null,"No.","Min","Offence",null,null,null,"Start",null,"End"]
[{"$f":"IF(TeamB!C4=\"\",\"\",TeamB!C4)","v":"-"},{"$f":"IF(TeamB!D4=\"\",\"\",TeamB!D4)","v":"-"},null,null,null,null,null,null,null,null,null,null,null,null,{"$f":"IF(TeamB!E4=\"\",\"\",TeamB!E4)","v":""},null,null,null,null,{"$f":"IF(TeamB!F4=\"\",\"\",TeamB!F4)","v":"G"},null,null,null,null,null,null,null,null,null,null,null,null,null,null,null,null,null,null,null,null,null,null,null,null,null,null,null,null,null,null,{"$f":"IF(AP32=\"\",\"\",AP32)","v":""}]
[{"$f":"IF(TeamB!C5=\"\",\"\",TeamB!C5)","v":"-"},{"$f":"IF(TeamB!D5=\"\",\"\",TeamB!D5)","v":"-"},null,null,null,null,null,null,null,null,null,null,null,null,{"$f":"IF(TeamB!E5=\"\",\"\",TeamB!E5)","v":""},null,null,null,null,{"$f":"IF(TeamB!F5=\"\",\"\",TeamB!F5)","v":"-"},null,null,null,null,null,null,null,null,null,null,null,null,null,null,null,null,null,null,null,null,null,null,null,null,null,null,null,null,null,null,{"$f":"IF(AP33=\"\",\"\",AP33)","v":""}]
[{"$f":"IF(TeamB!C6=\"\",\"\",TeamB!C6)","v":"-"},{"$f":"IF(TeamB!D6=\"\",\"\",TeamB!D6)","v":"-"},null,null,null,null,null,null,null,null,null,null,null,null,{"$f":"IF(TeamB!E6=\"\",\"\",TeamB!E6)","v":""},null,null,null,null,{"$f":"IF(TeamB!F6=\"\",\"\",TeamB!F6)","v":"-"},null,null,null,null,null,null,null,null,null,null,null,null,null,null,null,null,null,null,null,null,null,null,null,null,null,null,null,null,null,null,""]
[{"$f":"IF(TeamB!C7=\"\",\"\",TeamB!C7)","v":"-"},{"$f":"IF(TeamB!D7=\"\",\"\",TeamB!D7)","v":"-"},null,null,null,null,null,null,null,null,null,null,null,null,{"$f":"IF(TeamB!E7=\"\",\"\",TeamB!E7)","v":""},null,null,null,null,{"$f":"IF(TeamB!F7=\"\",\"\",TeamB!F7)","v":"-"},null,null,null,null,null,null,null,null,null,null,null,null,null,null,null,null,null,null,null,null,null,null,null,null,null,null,null,null,null,null,""]
[{"$f":"IF(TeamB!C8=\"\",\"\",TeamB!C8)","v":"-"},{"$f":"IF(TeamB!D8=\"\",\"\",TeamB!D8)","v":"-"},null,null,null,null,null,null,null,null,null,null,null,null,{"$f":"IF(TeamB!E8=\"\",\"\",TeamB!E8)","v":""},null,null,null,null,{"$f":"IF(TeamB!F8=\"\",\"\",TeamB!F8)","v":"-"},null,null,null,null,null,null,null,null,null,null,null,null,null,null,null,null,null,null,null,null,null,null,null,null,null,null,null,null,null,null,""]
[{"$f":"IF(TeamB!C9=\"\",\"\",TeamB!C9)","v":"-"},{"$f":"IF(TeamB!D9=\"\",\"\",TeamB!D9)","v":"-"},null,null,null,null,null,null,null,null,null,null,null,null,{"$f":"IF(TeamB!E9=\"\",\"\",TeamB!E9)","v":""},null,null,null,null,{"$f":"IF(TeamB!F9=\"\",\"\",TeamB!F9)","v":"-"},null,null,null,null,null,null,null,null,null,null,null,null,null,null,null,null,null,null,null,null,null,null,null,null,null,null,null,null,null,null,""]
[{"$f":"IF(TeamB!C10=\"\",\"\",TeamB!C10)","v":"-"},{"$f":"IF(TeamB!D10=\"\",\"\",TeamB!D10)","v":"-"},null,null,null,null,null,null,null,null,null,null,null,null,{"$f":"IF(TeamB!E10=\"\",\"\",TeamB!E10)","v":""},null,null,null,null,{"$f":"IF(TeamB!F10=\"\",\"\",TeamB!F10)","v":"-"},null,null,null,null,null,null,null,null,null,null,null,null,null,null,null,null,null,null,null,null,null,null,null,null,null,null,null,null,null,null,""]
[{"$f":"IF(TeamB!C11=\"\",\"\",TeamB!C11)","v":"-"},{"$f":"IF(TeamB!D11=\"\",\"\",TeamB!D11)","v":"-"},null,null,null,null,null,null,null,null,null,null,null,null,{"$f":"IF(TeamB!E11=\"\",\"\",TeamB!E11)","v":""},null,null,null,null,{"$f":"IF(TeamB!F11=\"\",\"\",TeamB!F11)","v":"-"},null,null,null,null,null,null,null,null,null,null,null,null,null,null,null,null,null,null,null,null,null,null,null,null,null,null,null,null,null,null,""]
[{"$f":"IF(TeamB!C12=\"\",\"\",TeamB!C12)","v":"-"},{"$f":"IF(TeamB!D12=\"\",\"\",TeamB!D12)","v":"-"},null,null,null,null,null,null,null,null,null,null,null,null,{"$f":"IF(TeamB!E12=\"\",\"\",TeamB!E12)","v":""},null,null,null,null,{"$f":"IF(TeamB!F12=\"\",\"\",TeamB!F12)","v":"-"},null,null,null,null,null,null,null,null,null,null,null,null,null,null,null,null,null,null,null,null,null,null,null,null,null,null,null,null,null,null,""]
[{"$f":"IF(TeamB!C13=\"\",\"\",TeamB!C13)","v":"-"},{"$f":"IF(TeamB!D13=\"\",\"\",TeamB!D13)","v":"-"},null,null,null,null,null,null,null,null,null,null,null,null,{"$f":"IF(TeamB!E13=\"\",\"\",TeamB!E13)","v":""},null,null,null,null,{"$f":"IF(TeamB!F13=\"\",\"\",TeamB!F13)","v":"-"},null,null,null,null,null,null,null,null,null,null,null,null,null,null,null,null,null,null,null,null,null,null,null,null,null,null,null,null,null,null,""]
[{"$f":"IF(TeamB!C14=\"\",\"\",TeamB!C14)","v":"-"},{"$f":"IF(TeamB!D14=\"\",\"\",TeamB!D14)","v":"-"},null,null,null,null,null,null,null,null,null,null,null,null,{"$f":"IF(TeamB!E14=\"\",\"\",TeamB!E14)","v":""},null,null,null,null,{"$f":"IF(TeamB!F14=\"\",\"\",TeamB!F14)","v":"-"},null,null,null,null,null,null,null,null,null,null,null,null,null,null,null,null,null,null,null,null,null,null,null,null,null,null,null,null,null,null,""]
[{"$f":"IF(TeamB!C15=\"\",\"\",TeamB!C15)","v":"-"},{"$f":"IF(TeamB!D15=\"\",\"\",TeamB!D15)","v":"-"},null,null,null,null,null,null,null,null,null,null,null,null,{"$f":"IF(TeamB!E15=\"\",\"\",TeamB!E15)","v":""},null,null,null,null,{"$f":"IF(TeamB!F15=\"\",\"\",TeamB!F15)","v":"-"},null,null,null,null,null,null,null,null,null,null,null,null,null,null,null,null,null,null,null,null,null,null,null,null,null,null,null,null,null,null,""]
[{"$f":"IF(TeamB!C16=\"\",\"\",TeamB!C16)","v":"-"},{"$f":"IF(TeamB!D16=\"\",\"\",TeamB!D16)","v":"-"},null,null,null,null,null,null,null,null,null,null,null,null,{"$f":"IF(TeamB!E16=\"\",\"\",TeamB!E16)","v":""},null,null,null,null,{"$f":"IF(TeamB!F16=\"\",\"\",TeamB!F16)","v":"-"},null,null,null,null,null,null,null,null,null,null,null,null,null,null,null,null,null,null,null,null,null,null,null,null,null,null,null,null,null,null,""]
[{"$f":"IF(TeamB!C17=\"\",\"\",TeamB!C17)","v":"-"},{"$f":"IF(TeamB!D17=\"\",\"\",TeamB!D17)","v":"-"},null,null,null,null,null,null,null,null,null,null,null,null,{"$f":"IF(TeamB!E17=\"\",\"\",TeamB!E17)","v":""},null,null,null,null,{"$f":"IF(TeamB!F17=\"\",\"\",TeamB!F17)","v":"-"},null,null,null,null,null,null,null,null,null,null,null,null,null,null,null,null,null,null,null,null,null,null,null,null,null,null,null,null,null,null,""]
[{"$f":"IF(TeamB!C18=\"\",\"\",TeamB!C18)","v":"-"},{"$f":"IF(TeamB!D18=\"\",\"\",TeamB!D18)","v":"-"},null,null,null,null,null,null,null,null,null,null,null,null,{"$f":"IF(TeamB!E18=\"\",\"\",TeamB!E18)","v":""},null,null,null,null,{"$f":"IF(TeamB!F18=\"\",\"\",TeamB!F18)","v":"-"},null,null,null,null,null,null,null,null,null,null,null,null,null,null,null,null,null,null,null,null,null,null,null,null,null,null,null,null,null,null,""]
[{"$f":"IF(TeamB!C19=\"\",\"\",TeamB!C19)","v":"-"},{"$f":"IF(TeamB!D19=\"\",\"\",TeamB!D19)","v":"-"},null,null,null,null,null,null,null,null,null,null,null,null,{"$f":"IF(TeamB!E19=\"\",\"\",TeamB!E19)","v":""},null,null,null,null,{"$f":"IF(TeamB!F19=\"\",\"\",TeamB!F19)","v":"-"},null,null,null,null,null,null,null,null,null,null,null,null,null,null,null,null,null,null,null,null,null,null,null,null,null,null,null,null,null,null,""]
[{"$f":"IF(TeamB!C20=\"\",\"\",TeamB!C20)","v":"-"},{"$f":"IF(TeamB!D20=\"\",\"\",TeamB!D20)","v":"-"},null,null,null,null,null,null,null,null,null,null,null,null,{"$f":"IF(TeamB!E20=\"\",\"\",TeamB!E20)","v":""},null,null,null,null,{"$f":"IF(TeamB!F20=\"\",\"\",TeamB!F20)","v":"-"},null,null,null,null,null,null,null,null,null,null,null,null,null,null,null,null,null,null,null,null,null,null,null,null,null,null,null,null,null,null,""]
[{"$f":"IF(TeamB!C21=\"\",\"\",TeamB!C21)","v":"-"},{"$f":"IF(TeamB!D21=\"\",\"\",TeamB!D21)","v":"-"},null,null,null,null,null,null,null,null,null,null,null,null,{"$f":"IF(TeamB!E21=\"\",\"\",TeamB!E21)","v":""},null,null,null,null,{"$f":"IF(TeamB!F21=\"\",\"\",TeamB!F21)","v":"-"},null,null,null,null,null,null,null,null,null,null,null,null,null,null,null,null,null,null,null,null,null,null,null,null,null,null,null,null,null,null,""]
[{"$f":"IF(TeamB!C22=\"\",\"\",TeamB!C22)","v":"-"},{"$f":"IF(TeamB!D22=\"\",\"\",TeamB!D22)","v":"-"},null,null,null,null,null,null,null,null,null,null,null,null,{"$f":"IF(TeamB!E22=\"\",\"\",TeamB!E22)","v":""},null,null,null,null,{"$f":"IF(TeamB!F22=\"\",\"\",TeamB!F22)","v":"-"},null,null,null,null,null,null,null,null,null,null,null,null,null,null,null,null,null,null,null,null,null,null,null,null,null,null,null,null,null,null,""]
[{"$f":"IF(TeamB!C23=\"\",\"\",TeamB!C23)","v":"-"},{"$f":"IF(TeamB!D23=\"\",\"\",TeamB!D23)","v":"-"},null,null,null,null,null,null,null,null,null,null,null,null,{"$f":"IF(TeamB!E23=\"\",\"\",TeamB!E23)","v":""},null,null,null,null,{"$f":"IF(TeamB!F23=\"\",\"\",TeamB!F23)","v":"-"},null,null,null,null,null,null,null,null,null,null,null,null,null,null,null,null,null,null,null,null,null,null,null,null,null,null,null,null,null,null,""]
[{"$f":"IF(TeamB!C24=\"\",\"\",TeamB!C24)","v":"-"},{"$f":"IF(TeamB!D24=\"\",\"\",TeamB!D24)","v":"-"},null,null,null,null,null,null,null,null,null,null,null,null,{"$f":"IF(TeamB!E24=\"\",\"\",TeamB!E24)","v":""},null,null,null,null,{"$f":"IF(TeamB!F24=\"\",\"\",TeamB!F24)","v":"-"},null,null,null,null,null,null,null,null,null,null,null,null,null,null,null,null,null,null,null,null,null,null,null,null,null,null,null,null,null,null,""]
[{"$f":"IF(TeamB!C25=\"\",\"\",TeamB!C25)","v":"-"},{"$f":"IF(TeamB!D25=\"\",\"\",TeamB!D25)","v":"-"},null,null,null,null,null,null,null,null,null,null,null,null,{"$f":"IF(TeamB!E25=\"\",\"\",TeamB!E25)","v":""},null,null,null,null,{"$f":"IF(TeamB!F25=\"\",\"\",TeamB!F25)","v":"-"},null,null,null,null,null,null,null,null,null,"Team official in bench",null,null,null,null,null,{"$f":"IF(TeamB!D27=\"\",\"\",TeamB!D27)","v":"-"},null,null,null,null,null,null,null,null,null,null,null,null,null,null,""]
["Game Summary",null,null,null,null,null,null,null,null,null,null,null,null,null,null,null,null,null,null,null,null,"Saves",null,null,null,null,null,null,null,null,"Goalkeeper Records",null,null,null,null,null,null,null,null,null,null,null,null,null,null,null,null,"Goalkeepers Changes"]
["Period",null,"G A:B",null,null,"SOG A:B",null,null,"PIM A:B",null,null,"PPGF A:B",null,null,null,null,null,"SHGF A:B",null,null,null,"GKA1",null,"GKA2",null,"GKB1",null,"GKB2",null,null,"GKA",null,"MIP",null,"GA",null,"GKB",null,"MIP",null,"GA",null,null,null,null,null,null,"Time",null,null,"GKA",null,"GKB"]
[1,null,0,":",0,{"$f":"C56+(IF(ISBLANK(Z56),\"0\",SUM(Z56:AC56)))","v":0},":",{"$f":"E56+(IF(ISBLANK(V56),\"0\",SUM(V56:Y56)))","v":0},0,":",0,0,null,":",null,0,null,0,":",null,0,null,null,"-",null,null,null,"-",null,null,{"$f":"IF(AY56=\"\",\"\",AY56)","v":"-"},null,0,null,"0",null,{"$f":"IF(BA56=\"\",\"\",BA56)","v":"-"},null,0,null,"0",null,null,null,null,null,null,0,null,null,"-",null,"-"]
[2,null,0,":",0,{"$f":"C57+(IF(ISBLANK(Z57),\"0\",SUM(Z57:AC57)))","v":0},":",{"$f":"E57+(IF(ISBLANK(V57),\"0\",SUM(V57:Y57)))","v":0},0,":",0,0,null,":",null,0,null,0,":",null,0,"-",null,"-",null,"-",null,"-",null,null,"-",null,"-",null,"-",null,"-",null,"-",null,"-"]
[3,null,0,":",0,{"$f":"C58+(IF(ISBLANK(Z58),\"0\",SUM(Z58:AC58)))","v":0},":",{"$f":"E58+(IF(ISBLANK(V58),\"0\",SUM(V58:Y58)))","v":0},0,":",0,0,null,":",null,0,null,0,":",null,0,"-",null,"-",null,"-",null,"-",null,null,"Start of game:",null,null,null,null,null,"End of game:"]
["OVT",null,"-",":","-","-",":","-","-",":","-","-",null,":",null,"-",null,"-",":",null,"-","-",null,"-",null,"-",null,"-",null,null,"Timeout A:",null,null,"-",null,null,"Timeout B:",null,null,"-"]
["GWS",null,"-",":","-","-",":","-","-",":","-","-",null,":",null,"-",null,"-",":",null,"-","-",null,"-",null,"-",null,"-",null,null,"Game Supervisor :"]
["TOTAL",null,{"$f":"IF(ISBLANK(C56),\"0\",SUM(C56:C60))","v":0},":",{"$f":"IF(ISBLANK(E56),\"0\",SUM(E56:E60))","v":0},{"$f":"SUM(F56:F60)","v":0},":",{"$f":"SUM(H56:H60)","v":0},{"$f":"SUM(I56:I60)","v":0},":",{"$f":"SUM(K56:K60)","v":0},{"$f":"SUM(L56:M60)","v":0},null,":",null,{"$f":"SUM(P56:Q60)","v":0},null,{"$f":"SUM(R56:R60)","v":0},":",null,{"$f":"SUM(U56:U60)","v":0},0,null,"-",null,0,null,"-"]
["Head Coarches and Off-Ice Officials"]
["Head Coarch A:",null,null,null,null,null,{"$f":"TeamA!D26","v":"-"},null,null,null,null,null,null,null,null,null,null,null,null,null,null,"Goal Judge:",null,null,null,null,null,null,null,null,null,null,null,"Linesman:"]
["Head Coarch B:",null,null,null,null,null,{"$f":"TeamB!D26","v":"-"},null,null,null,null,null,null,null,null,null,null,null,null,null,null,"Goal Judge:",null,null,null,null,null,null,null,null,null,null,null,"Linesman:"]
["Timekeeper:",null,null,null,null,null,null,null,null,null,null,null,null,null,null,null,null,null,null,null,null,"Penalty Bench Attendant:",null,null,null,null,null,null,null,null,null,null,null,"Referee:"]
["Penalty Timekeeper:",null,null,null,null,null,null,null,null,null,null,null,null,null,null,null,null,null,null,null,null,"Penalty Bench Attendant:",null,null,null,null,null,null,null,null,null,null,null,"Sign. Referee:"]
["Announcer:",null,null,null,null,null,null,null,null,null,null,null,null,null,null,null,null,null,null,null,null,"Scorekeeper:"]
[]
["Notes"]
[]
[null,"記入マニュアル(1.51MB)：　",null,null,null,null,null,null,null,null,null,null,null,null,null,null,null,null,null,null,null,null,"http://www.kihf.net/files/rfr/gamesheet2008_entrymanual.pdf"]
[null,"アナウンサーマニュアル(6.98MB)：",null,null,null,null,null,null,null,null,null,null,null,null,null,null,null,null,null,null,null,null,"http://www.kihf.net/files/rfr/announcer_handbook.pdf"]
[]
[null,null,null,null,null,null,null,null,null,null,null,null,null,null,null,null,null,null,null,null,null,"Goals",null,null,null,null,null,null,null,"Game Winning Shots"]
[]
[null,null,null,null,null,null,null,null,null,null,null,null,null,null,null,null,null,null,null,null,null,"#","Time",null,null,"G","A1","A2","GS","*A","B","GKA","GKB","GF:GA"]
[null,null,null,null,null,null,null,null,null,null,null,null,null,null,null,null,null,null,null,null,null,null,null,null,null,null,null,null,null,9,null,null,31,"１:",null,"←","Team Aの一人目 #9 成功 (Team B のGK は　#31)"]
[null,null,null,null,null,null,null,null,null,null,null,null,null,null,null,null,null,null,null,null,null,null,null,null,null,null,null,null,null,null,null,null,null,null,null,null,"先攻Team の左側にアスタリスクを付ける"]
[null,null,null,null,null,null,null,null,null,null,null,null,null,null,null,null,null,null,null,null,null,"#","Time",null,null,"G","A1","A2","GS","*A","B","GKA","GKB","GF:GA"]
[null,null,null,null,null,null,null,null,null,null,null,null,null,null,null,null,null,null,null,null,null,null,null,null,null,null,null,null,null,9,30,1,31,"1:1",null,"←","Team Bの一人目成功 (Team AのGKは #1)"]
[]
[null,null,null,null,null,null,null,null,null,null,null,null,null,null,null,null,null,null,null,null,null,"#","Time",null,null,"G","A1","A2","GS","*A","B","GKA","GKB","GF:GA"]
[null,null,null,null,null,null,null,null,null,null,null,null,null,null,null,null,null,null,null,null,null,null,null,null,null,null,null,null,null,9,30,1,31,"1:1"]
[null,null,null,null,null,null,null,null,null,null,null,null,null,null,null,null,null,null,null,null,null,null,null,null,null,null,null,null,null,15,null,null,31,"2:",null,"←","Team A の2人目成功"]
[]
[null,null,null,null,null,null,null,null,null,null,null,null,null,null,null,null,null,null,null,null,null,"#","Time",null,null,"G","A1","A2","GS","*A","B","GKA","GKB","GF:GA"]
[null,null,null,null,"GWSの場合の得点記入方法",null,null,null,null,null,null,null,null,null,null,null,null,null,null,null,"→",1,"GWS",null,null,15,"-","-","PS",9,30,1,31,"1:1"]
[null,null,null,null,null,null,null,null,null,null,null,null,null,null,null,null,null,null,null,null,null,null,null,null,null,null,null,null,null,15,2,1,31,"2:1",null,"←","Team B　の2人目失敗"]
[]
[null,null,null,null,null,null,null,null,null,null,null,null,null,null,null,null,null,null,null,null,null,"注：","GWSにて勝敗を決した場合、GKの失点を追加する必要があります。（自動計算：要注意）"]
[]
["Team (B)＊",null,null,null,null,null,"JOKERS'99",null,null,null,null,null,null,null,null,null,null,null,null,null,null,"←","パックトスによりホームを決めた場合：　"]
[null,null,null,null,null,null,null,null,null,null,null,null,null,null,null,null,null,null,null,null,null,null,"Team(B)の右側にアスタリスクを入れる　Team(A)の場合も同様。"]
[]
[null,null,null,null,null,null,null,null,null,null,null,null,null,null,null,null,null,null,null,null,null,"試合終了時の処理後にGKCahngesのデータを追加する場合は以下の手順に従ってください"]
[null,null,null,null,null,null,null,null,null,null,null,null,null,null,null,null,null,null,null,null,null,"誤ったデータ",null,null,null,null,null,null,null,null,"45:00 以下の行と列をクリアする",null,null,null,null,null,null,null,null,"再度正しい時間を入力する"]
[null,null,null,null,null,null,null,null,null,null,null,null,null,null,null,null,null,null,null,null,null,"Time",null,null,"GKA",null,"GKB",null,null,null,"Time",null,null,"GKA",null,"GKB",null,null,null,"Time",null,null,"GKA",null,"GKB"]
[null,null,null,null,null,null,null,null,null,null,null,null,null,null,null,null,null,null,null,null,null,0,null,null,1,null,33,null,null,null,0,null,null,1,null,33,null,null,null,0,null,null,1,null,33]
[null,null,null,null,null,null,null,null,null,null,null,null,null,null,null,null,null,null,null,null,null,1500,null,null,55,null,33,null,null,null,1500,null,null,55,null,33,null,null,null,1500,null,null,55,null,33]
[null,null,null,null,null,null,null,null,null,null,null,null,null,null,null,null,null,null,null,null,null,2322,null,null,55,null,69,null,null,null,2322,null,null,55,null,69,null,null,null,2322,null,null,55,null,69]
[null,null,null,null,null,null,null,null,null,null,null,null,null,null,null,null,null,null,null,null,null,4500,null,null,"-",null,"-",null,null,null,null,null,null,null,null,null,null,null,null,4432,null,null,55,null,"-"]
[null,null,null,null,null,null,null,null,null,null,null,null,null,null,null,null,null,null,null,null,null,"-",null,null,"-",null,"-",null,null,null,null,null,null,null,null,null,null,null,null,4500,null,null,"-",null,"-"]
[null,null,null,null,null,null,null,null,null,null,null,null,null,null,null,null,null,null,null,null,null,"-",null,null,"-",null,"-",null,null,null,null,null,null,null,null,null,null,null,null,"-",null,null,"-",null,"-"]
[null,null,null,null,null,null,null,null,null,null,null,null,null,null,null,null,null,null,null,null,null,"-",null,null,"-",null,"-",null,null,null,null,null,null,null,null,null,null,null,null,"-",null,null,"-",null,"-"]
[null,null,null,null,null,null,null,null,null,null,null,null,null,null,null,null,null,null,null,null,null,"-",null,null,"-",null,"-",null,null,null,null,null,null,null,null,null,null,null,null,"-",null,null,"-",null,"-"]
[null,null,null,null,null,null,null,null,null,null,null,null,null,null,null,null,null,null,null,null,null,"-",null,null,"-",null,"-",null,null,null,null,null,null,null,null,null,null,null,null,"-",null,null,"-",null,"-"]
[null,null,null,null,null,null,null,null,null,null,null,null,null,null,null,null,null,null,null,null,null,"-",null,null,"-",null,"-",null,null,null,null,null,null,null,null,null,null,null,null,"-",null,null,"-",null,"-"]
[null,null,null,null,null,null,null,null,null,null,null,null,null,null,null,null,null,null,null,null,null,"-",null,null,"-",null,"-",null,null,null,null,null,null,null,null,null,null,null,null,"-",null,null,"-",null,"-"]
[null,null,null,null,null,null,null,null,null,null,null,null,null,null,null,null,null,null,null,null,null,"-",null,null,"-",null,"-",null,null,null,null,null,null,null,null,null,null,null,null,"-",null,null,"-",null,"-"]

{"sheet":"GameSheet2枚目","index":5,"n_rows":69,"n_cols":53,"rows_kept":69,"cut":false,"hidden":false,"merged":[[1,52,1,53],[0,0,0,21],[0,24,0,40],[1,0,1,1],[1,2,1,18],[1,19,1,21],[1,22,1,29],[1,30,1,31],[1,32,1,37],[7,52,7,53],[6,46,6,49],[1,43,1,45],[1,38,1,39],[1,46,1,48],[3,41,4,53],[6,41,6,43],[1,40,1,42],[1,49,1,51],[7,50,7,51],[10,50,10,51],[10,52,10,53],[9,46,9,49],[8,50,8,51],[8,52,8,53],[9,50,9,51],[9,52,9,53],[8,46,8,49],[7,46,7,49],[16,41,16,43],[10,46,10,49],[15,41,15,43],[14,41,14,43],[13,46,13,49],[11,41,11,43],[13,41,13,43],[12,41,12,43],[10,41,10,43],[3,0,4,5],[3,6,4,20],[3,21,4,28],[3,29,4,34],[5,52,5,53],[5,41,5,43],[5,14,5,18],[6,19,6,20],[6,22,6,24],[6,50,6,51],[6,52,6,53],[5,46,5,49],[5,19,5,20],[5,22,5,24],[5,50,5,51],[9,41,9,43],[10,33,10,34],[6,33,6,34],[9,33,9,34],[7,41,7,43],[8,41,8,43],[9,19,9,20],[9,22,9,24],[5,33,5,34],[10,19,10,20],[10,22,10,24],[8,19,8,20],[7,19,7,20],[8,22,8,24],[8,33,8,34],[7,33,7,34],[7,22,7,24],[11,19,11,20],[11,22,11,24],[11,33,11,34],[13,19,13,20],[13,22,13,24],[13,33,13,34],[12,19,12,20],[12,22,12,24],[12,33,12,34],[11,52,11,53],[12,46,12,49],[12,50,12,51],[12,52,12,53],[11,50,11,51],[11,46,11,49],[14,19,14,20],[14,22,14,24],[14,33,14,34],[15,19,15,20],[15,22,15,24],[15,33,15,34],[13,52,13,53],[14,46,14,49],[14,50,14,51],[14,52,14,53],[13,50,13,51],[16,50,16,51],[16,52,16,53],[15,50,15,51],[15,46,15,49],[15,52,15,53],[16,46,16,49],[16,19,16,20],[16,22,16,24],[16,33,16,34],[18,19,18,20],[18,22,18,24],[18,33,18,34],[17,19,17,20],[17,22,17,24],[17,33,17,34],[17,41,17,43],[17,46,17,49],[17,50,17,51],[19,52,19,53],[17,52,17,53],[18,46,18,49],[18,50,18,51],[18,52,18,53],[19,19,19,20],[19,22,19,24],[19,33,19,34],[18,41,18,43],[20,46,20,49],[20,50,20,51],[19,41,19,43],[19,46,19,49],[19,50,19,51],[3,35,26,40],[21,19,21,20],[21,22,21,24],[21,33,21,34],[20,52,20,53],[21,41,21,43],[21,46,21,49],[21,50,21,51],[21,52,21,53],[20,41,20,43],[22,50,22,51],[20,19,20,20],[20,22,20,24],[20,33,20,34],[22,52,22,53],[23,41,23,43],[23,46,23,49],[23,50,23,51],[23,52,23,53],[22,19,22,20],[24,19,24,20],[24,22,24,24],[24,33,24,34],[23,33,23,34],[22,41,22,43],[22,46,22,49],[22,22,22,24],[22,33,22,34],[23,19,23,20],[23,22,23,24],[24,46,24,49],[24,50,24,51],[24,52,24,53],[25,41,25,43],[25,46,25,49],[25,50,25,51],[25,52,25,53],[24,41,24,43],[26,46,26,49],[26,50,26,51],[26,52,26,53],[26,19,26,20],[26,22,26,24],[25,19,25,20],[25,22,25,24],[25,33,25,34],[26,33,26,34],[26,41,26,43],[32,50,32,51],[32,52,32,53],[28,41,29,53],[33,46,33,49],[33,50,33,51],[33,52,33,53],[32,46,32,49],[30,50,30,51],[30,52,30,53],[31,52,31,53],[28,21,29,28],[28,29,29,34],[27,50,27,51],[27,52,27,53],[27,22,27,24],[27,41,27,43],[27,46,27,49],[27,35,27,40],[27,29,27,34],[28,35,51,40],[30,22,30,24],[31,46,31,49],[31,50,31,51],[31,19,31,20],[31,22,31,24],[31,33,31,34],[31,41,31,43],[30,33,30,34],[30,41,30,43],[30,46,30,49],[32,19,32,20],[32,22,32,24],[32,33,32,34],[32,41,32,43],[33,19,33,20],[33,22,33,24],[33,33,33,34],[33,41,33,43],[35,19,35,20],[35,22,35,24],[35,33,35,34],[34,41,34,43],[34,19,34,20],[34,22,34,24],[34,33,34,34],[34,52,34,53],[34,46,34,49],[34,50,34,51],[37,19,37,20],[37,22,37,24],[37,33,37,34],[36,19,36,20],[36,22,36,24],[36,33,36,34],[35,46,35,49],[35,50,35,51],[35,52,35,53],[35,41,35,43],[37,41,37,43],[36,52,36,53],[37,46,37,49],[37,50,37,51],[37,52,37,53],[36,50,36,51],[36,41,36,43],[36,46,36,49],[39,19,39,20],[39,22,39,24],[39,33,39,34],[38,19,38,20],[38,22,38,24],[38,33,38,34],[39,41,39,43],[38,41,38,43],[38,52,38,53],[39,46,39,49],[39,50,39,51],[39,52,39,53],[38,46,38,49],[38,50,38,51],[41,19,41,20],[41,22,41,24],[41,33,41,34],[40,19,40,20],[40,22,40,24],[40,33,40,34],[40,52,40,53],[41,46,41,49],[41,50,41,51],[41,52,41,53],[40,41,40,43],[40,46,40,49],[40,50,40,51],[41,41,41,43],[43,19,43,20],[43,22,43,24],[43,33,43,34],[42,19,42,20],[42,22,42,24],[42,33,42,34],[42,52,42,53],[43,46,43,49],[43,50,43,51],[43,52,43,53],[42,41,42,43],[42,46,42,49],[42,50,42,51],[43,41,43,43],[45,19,45,20],[45,22,45,24],[45,33,45,34],[44,19,44,20],[44,22,44,24],[44,33,44,34],[44,52,44,53],[45,46,45,49],[45,50,45,51],[45,52,45,53],[44,41,44,43],[44,46,44,49],[44,50,44,51],[45,41,45,43],[47,19,47,20],[47,22,47,24],[47,33,47,34],[46,19,46,20],[46,22,46,24],[46,33,46,34],[46,52,46,53],[47,46,47,49],[47,50,47,51],[47,52,47,53],[46,41,46,43],[46,46,46,49],[46,50,46,51],[47,41,47,43],[48,41,48,43],[48,46,48,49],[48,50,48,51],[49,19,49,20],[49,22,49,24],[49,33,49,34],[48,19,48,20],[48,22,48,24],[48,33,48,34],[49,41,49,43],[50,52,50,53],[48,52,48,53],[49,46,49,49],[49,50,49,51],[49,52,49,53],[50,46,50,49],[50,50,50,51],[52,52,52,53],[51,46,51,49],[51,50,51,51],[51,52,51,53],[52,50,52,51],[52,29,52,34],[51,14,51,18],[50,19,50,20],[50,22,50,24],[50,33,50,34],[51,19,51,20],[51,22,51,24],[51,33,51,34],[50,14,50,18],[50,41,50,43],[51,41,51,43],[52,1,52,13],[52,14,52,18],[52,46,52,49],[53,19,53,20],[52,41,52,43],[52,19,52,20],[52,22,52,24],[52,35,52,40],[53,21,53,24],[54,5,54,7],[54,8,54,10],[53,12,53,15],[53,16,53,17],[53,0,53,11],[54,0,54,1],[54,2,54,4],[54,11,54,16],[54,17,54,20],[54,21,54,22],[54,23,54,24],[54,40,54,41],[54,47,54,49],[54,25,54,26],[54,27,54,28],[54,30,54,31],[54,32,54,33],[54,34,54,35],[54,36,54,37],[54,38,54,39],[54,50,54,51],[54,52,54,53],[55,0,55,1],[55,11,55,12],[55,13,55,14],[55,15,55,16],[55,18,55,19],[55,21,55,22],[55,23,55,24],[55,25,55,26],[55,32,55,33],[55,34,55,35],[55,36,55,37],[55,38,55,39],[56,18,56,19],[56,21,56,22],[55,27,55,28],[55,30,55,31],[56,23,56,24],[55,40,55,41],[55,47,55,49],[56,36,56,37],[56,38,56,39],[56,40,56,41],[56,47,56,49],[56,30,56,31],[56,32,56,33],[56,34,56,35],[57,27,57,28],[57,30,57,32],[56,0,56,1],[56,11,56,12],[56,13,56,14],[56,15,56,16],[55,50,55,51],[55,52,55,53],[56,50,56,51],[56,52,56,53],[57,23,57,24],[57,25,57,26],[57,50,57,51],[57,52,57,53],[56,25,56,26],[56,27,56,28],[57,36,57,38],[58,18,58,19],[57,18,57,19],[57,21,57,22],[57,0,57,1],[57,11,57,12],[57,13,57,14],[57,15,57,16],[58,23,58,24],[58,25,58,26],[58,52,58,53],[58,50,58,51],[58,11,58,12],[58,13,58,14],[58,15,58,16],[57,39,57,41],[57,47,57,49],[58,39,58,41],[58,47,58,49],[57,33,57,35],[58,27,58,28],[58,30,58,32],[58,33,58,35],[58,36,58,38],[60,15,60,16],[59,0,59,1],[59,11,59,12],[59,13,59,14],[59,15,59,16],[60,11,60,12],[59,52,59,53],[59,27,59,28],[58,0,58,1],[60,23,60,24],[59,25,59,26],[59,18,59,19],[59,21,59,22],[59,23,59,24],[58,21,58,22],[60,0,60,1],[60,13,60,14],[59,47,59,49],[59,50,59,51],[59,30,59,34],[59,35,59,41],[61,52,61,53],[60,25,60,26],[60,27,60,28],[60,47,60,49],[60,50,60,51],[60,52,60,53],[61,0,61,20],[61,21,61,22],[61,23,61,24],[61,25,61,26],[61,27,61,28],[61,47,61,49],[61,50,61,51],[60,18,60,19],[60,21,60,22],[62,0,62,5],[62,6,62,20],[62,21,62,25],[62,26,62,32],[62,47,62,49],[62,50,62,51],[62,33,62,37],[62,38,62,44],[62,52,62,53],[63,0,63,5],[63,6,63,20],[63,21,63,25],[63,26,63,32],[63,33,63,37],[63,38,63,44],[63,47,63,49],[63,50,63,51],[63,52,63,53],[64,0,64,5],[64,6,64,20],[64,21,64,25],[64,26,64,32],[64,33,64,37],[64,38,64,44],[66,26,66,32],[65,26,65,32],[64,47,64,49],[64,50,64,51],[65,33,66,37],[65,38,66,44],[65,47,65,49],[65,50,65,51],[66,47,66,49],[66,50,66,51],[6,1,6,13],[6,14,6,18],[65,0,65,5],[65,6,65,20],[65,21,65,25],[68,0,68,4],[68,6,68,53],[66,0,66,5],[66,6,66,20],[66,21,66,25],[14,1,14,13],[14,14,14,18],[66,52,66,53],[64,52,64,53],[65,52,65,53],[5,1,5,13],[9,1,9,13],[9,14,9,18],[8,1,8,13],[8,14,8,18],[7,1,7,13],[7,14,7,18],[12,1,12,13],[12,14,12,18],[13,1,13,13],[13,14,13,18],[10,1,10,13],[10,14,10,18],[11,1,11,13],[11,14,11,18],[20,1,20,13],[20,14,20,18],[15,1,15,13],[15,14,15,18],[16,1,16,13],[16,14,16,18],[17,1,17,13],[17,14,17,18],[18,1,18,13],[18,14,18,18],[19,1,19,13],[19,14,19,18],[26,1,26,13],[26,14,26,18],[21,1,21,13],[21,14,21,18],[22,1,22,13],[22,14,22,18],[23,1,23,13],[23,14,23,18],[24,1,24,13],[24,14,24,18],[25,1,25,13],[25,14,25,18],[27,1,27,13],[27,14,27,18],[27,19,27,20],[30,19,30,20],[30,14,30,18],[30,1,30,13],[28,0,29,5],[28,6,29,20],[31,1,31,13],[31,14,31,18],[33,1,33,13],[33,14,33,18],[36,1,36,13],[36,14,36,18],[32,1,32,13],[32,14,32,18],[34,1,34,13],[34,14,34,18],[35,1,35,13],[35,14,35,18],[42,1,42,13],[42,14,42,18],[43,1,43,13],[37,1,37,13],[37,14,37,18],[38,1,38,13],[38,14,38,18],[39,1,39,13],[39,14,39,18],[47,1,47,13],[47,14,47,18],[48,1,48,13],[40,1,40,13],[40,14,40,18],[45,1,45,13],[45,14,45,18],[46,1,46,13],[41,1,41,13],[41,14,41,18],[49,1,49,13],[49,14,49,18],[51,1,51,13],[43,14,43,18],[44,1,44,13],[44,14,44,18],[46,14,46,18],[48,14,48,18],[50,1,50,13]]}
["OFFICIAL GAME SHEET",null,null,null,null,null,null,null,null,null,null,null,null,null,null,null,null,null,null,null,null,null,null,null,"KANAGAWA ICE HOCKEY FEDERATION",null,null,null,null,null,null,null,null,null,null,null,null,null,null,null,null,null,null,null,null,null,null,null,null,null,null,"K.I.H.F"]
["Event:",null,{"$f":"IF(GameSheet!C2=\"\",\"\",GameSheet!C2)","v":"第27回　春季小中女子神奈川選手権"},null,null,null,null,null,null,null,null,null,null,null,null,null,null,null,null,"Place:",null,null,{"$f":"IF(GameSheet!W2=\"\",\"\",GameSheet!W2)","v":"相模原銀河アリーナ"},null,null,null,null,null,null,null,"Date:",null,{"$f":"IF(GameSheet!AG2=\"\",\"\",GameSheet!AG2)","v":""},null,null,null,null,null,"Start:",null,{"$f":"IF(GameSheet!AO2=\"\",\"\",GameSheet!AO2)","v":"12:00"},null,null,"Spectators:",null,null,{"$f":"IF(GameSheet!AU2=\"\",\"\",GameSheet!AU2)","v":"-"},null,null,"Game No.:",null,null,{"$f":"IF(GameSheet!BA2=\"\",\"\",GameSheet!BA2)","v":""}]
[]
["Team (A)",null,null,null,null,null,{"$f":"IF(GameSheet!G4=\"\",\"\",GameSheet!G4)","v":""},null,null,null,null,null,null,null,null,null,null,null,null,null,null,"Goals",null,null,null,null,null,null,null,"Game Winning Shots",null,null,null,null,null,null,null,null,null,null,null,"Penalties"]
[]
["No.","Family and Given Name",null,null,null,null,null,null,null,null,null,null,null,null,"(+BP+C/A)",null,null,null,null,"Pos",null,"#","Time",null,null,"G","A1","A2","GS","A","B","GKA","GKB","GF:GA",null,null,null,null,null,null,null,"Time",null,null,"No.","Min","Offence",null,null,null,"Start",null,"End"]
[{"$f":"IF(TeamA!C4=\"\",\"\",TeamA!C4)","v":"-"},{"$f":"IF(TeamA!D4=\"\",\"\",TeamA!D4)","v":"-"},null,null,null,null,null,null,null,null,null,null,null,null,{"$f":"IF(TeamA!E4=\"\",\"\",TeamA!E4)","v":""},null,null,null,null,{"$f":"IF(TeamA!F4=\"\",\"\",TeamA!F4)","v":"G"},null,null,null,null,null,null,null,null,null,null,null,null,null,null,null,null,null,null,null,null,null,null,null,null,null,null,null,null,null,null,{"$f":"IF(AP7=\"\",\"\",AP7)","v":""}]
[{"$f":"IF(TeamA!C5=\"\",\"\",TeamA!C5)","v":"-"},{"$f":"IF(TeamA!D5=\"\",\"\",TeamA!D5)","v":"-"},null,null,null,null,null,null,null,null,null,null,null,null,{"$f":"IF(TeamA!E5=\"\",\"\",TeamA!E5)","v":""},null,null,null,null,{"$f":"IF(TeamA!F5=\"\",\"\",TeamA!F5)","v":"-"},null,null,null,null,null,null,null,null,null,null,null,null,null,null,null,null,null,null,null,null,null,null,null,null,null,null,null,null,null,null,{"$f":"IF(AP8=\"\",\"\",AP8)","v":""}]
[{"$f":"IF(TeamA!C6=\"\",\"\",TeamA!C6)","v":"-"},{"$f":"IF(TeamA!D6=\"\",\"\",TeamA!D6)","v":"-"},null,null,null,null,null,null,null,null,null,null,null,null,{"$f":"IF(TeamA!E6=\"\",\"\",TeamA!E6)","v":""},null,null,null,null,{"$f":"IF(TeamA!F6=\"\",\"\",TeamA!F6)","v":"-"},null,null,null,null,null,null,null,null,null,null,null,null,null,null,null,null,null,null,null,null,null,null,null,null,null,null,null,null,null,null,{"$f":"IF(AP9=\"\",\"\",AP9)","v":""}]
[{"$f":"IF(TeamA!C7=\"\",\"\",TeamA!C7)","v":"-"},{"$f":"IF(TeamA!D7=\"\",\"\",TeamA!D7)","v":"-"},null,null,null,null,null,null,null,null,null,null,null,null,{"$f":"IF(TeamA!E7=\"\",\"\",TeamA!E7)","v":""},null,null,null,null,{"$f":"IF(TeamA!F7=\"\",\"\",TeamA!F7)","v":"-"},null,null,null,null,null,null,null,null,null,null,null,null,null,null,null,null,null,null,null,null,null,null,null,null,null,null,null,null,null,null,""]
[{"$f":"IF(TeamA!C8=\"\",\"\",TeamA!C8)","v":"-"},{"$f":"IF(TeamA!D8=\"\",\"\",TeamA!D8)","v":"-"},null,null,null,null,null,null,null,null,null,null,null,null,{"$f":"IF(TeamA!E8=\"\",\"\",TeamA!E8)","v":""},null,null,null,null,{"$f":"IF(TeamA!F8=\"\",\"\",TeamA!F8)","v":"-"},null,null,null,null,null,null,null,null,null,null,null,null,null,null,null,null,null,null,null,null,null,null,null,null,null,null,null,null,null,null,""]
[{"$f":"IF(TeamA!C9=\"\",\"\",TeamA!C9)","v":"-"},{"$f":"IF(TeamA!D9=\"\",\"\",TeamA!D9)","v":"-"},null,null,null,null,null,null,null,null,null,null,null,null,{"$f":"IF(TeamA!E9=\"\",\"\",TeamA!E9)","v":""},null,null,null,null,{"$f":"IF(TeamA!F9=\"\",\"\",TeamA!F9)","v":"-"},null,null,null,null,null,null,null,null,null,null,null,null,null,null,null,null,null,null,null,null,null,null,null,null,null,null,null,null,null,null,""]
[{"$f":"IF(TeamA!C10=\"\",\"\",TeamA!C10)","v":"-"},{"$f":"IF(TeamA!D10=\"\",\"\",TeamA!D10)","v":"-"},null,null,null,null,null,null,null,null,null,null,null,null,{"$f":"IF(TeamA!E10=\"\",\"\",TeamA!E10)","v":""},null,null,null,null,{"$f":"IF(TeamA!F10=\"\",\"\",TeamA!F10)","v":"-"},null,null,null,null,null,null,null,null,null,null,null,null,null,null,null,null,null,null,null,null,null,null,null,null,null,null,null,null,null,null,""]
[{"$f":"IF(TeamA!C11=\"\",\"\",TeamA!C11)","v":"-"},{"$f":"IF(TeamA!D11=\"\",\"\",TeamA!D11)","v":"-"},null,null,null,null,null,null,null,null,null,null,null,null,{"$f":"IF(TeamA!E11=\"\",\"\",TeamA!E11)","v":""},null,null,null,null,{"$f":"IF(TeamA!F11=\"\",\"\",TeamA!F11)","v":"-"},null,null,null,null,null,null,null,null,null,null,null,null,null,null,null,null,null,null,null,null,null,null,null,null,null,null,null,null,null,null,""]
[{"$f":"IF(TeamA!C12=\"\",\"\",TeamA!C12)","v":"-"},{"$f":"IF(TeamA!D12=\"\",\"\",TeamA!D12)","v":"-"},null,null,null,null,null,null,null,null,null,null,null,null,{"$f":"IF(TeamA!E12=\"\",\"\",TeamA!E12)","v":""},null,null,null,null,{"$f":"IF(TeamA!F12=\"\",\"\",TeamA!F12)","v":"-"},null,null,null,null,null,null,null,null,null,null,null,null,null,null,null,null,null,null,null,null,null,null,null,null,null,null,null,null,null,null,""]
[{"$f":"IF(TeamA!C13=\"\",\"\",TeamA!C13)","v":"-"},{"$f":"IF(TeamA!D13=\"\",\"\",TeamA!D13)","v":"-"},null,null,null,null,null,null,null,null,null,null,null,null,{"$f":"IF(TeamA!E13=\"\",\"\",TeamA!E13)","v":""},null,null,null,null,{"$f":"IF(TeamA!F13=\"\",\"\",TeamA!F13)","v":"-"},null,null,null,null,null,null,null,null,null,null,null,null,null,null,null,null,null,null,null,null,null,null,null,null,null,null,null,null,null,null,""]
[{"$f":"IF(TeamA!C14=\"\",\"\",TeamA!C14)","v":"-"},{"$f":"IF(TeamA!D14=\"\",\"\",TeamA!D14)","v":"-"},null,null,null,null,null,null,null,null,null,null,null,null,{"$f":"IF(TeamA!E14=\"\",\"\",TeamA!E14)","v":""},null,null,null,null,{"$f":"IF(TeamA!F14=\"\",\"\",TeamA!F14)","v":"-"},null,null,null,null,null,null,null,null,null,null,null,null,null,null,null,null,null,null,null,null,null,null,null,null,null,null,null,null,null,null,""]
[{"$f":"IF(TeamA!C15=\"\",\"\",TeamA!C15)","v":"-"},{"$f":"IF(TeamA!D15=\"\",\"\",TeamA!D15)","v":"-"},null,null,null,null,null,null,null,null,null,null,null,null,{"$f":"IF(TeamA!E15=\"\",\"\",TeamA!E15)","v":""},null,null,null,null,{"$f":"IF(TeamA!F15=\"\",\"\",TeamA!F15)","v":"-"},null,null,null,null,null,null,null,null,null,null,null,null,null,null,null,null,null,null,null,null,null,null,null,null,null,null,null,null,null,null,""]
[{"$f":"IF(TeamA!C16=\"\",\"\",TeamA!C16)","v":"-"},{"$f":"IF(TeamA!D16=\"\",\"\",TeamA!D16)","v":"-"},null,null,null,null,null,null,null,null,null,null,null,null,{"$f":"IF(TeamA!E16=\"\",\"\",TeamA!E16)","v":""},null,null,null,null,{"$f":"IF(TeamA!F16=\"\",\"\",TeamA!F16)","v":"-"},null,null,null,null,null,null,null,null,null,null,null,null,null,null,null,null,null,null,null,null,null,null,null,null,null,null,null,null,null,null,""]
[{"$f":"IF(TeamA!C17=\"\",\"\",TeamA!C17)","v":"-"},{"$f":"IF(TeamA!D17=\"\",\"\",TeamA!D17)","v":"-"},null,null,null,null,null,null,null,null,null,null,null,null,{"$f":"IF(TeamA!E17=\"\",\"\",TeamA!E17)","v":""},null,null,null,null,{"$f":"IF(TeamA!F17=\"\",\"\",TeamA!F17)","v":"-"},null,null,null,null,null,null,null,null,null,null,null,null,null,null,null,null,null,null,null,null,null,null,null,null,null,null,null,null,null,null,""]
[{"$f":"IF(TeamA!C18=\"\",\"\",TeamA!C18)","v":"-"},{"$f":"IF(TeamA!D18=\"\",\"\",TeamA!D18)","v":"-"},null,null,null,null,null,null,null,null,null,null,null,null,{"$f":"IF(TeamA!E18=\"\",\"\",TeamA!E18)","v":""},null,null,null,null,{"$f":"IF(TeamA!F18=\"\",\"\",TeamA!F18)","v":"-"},null,null,null,null,null,null,null,null,null,null,null,null,null,null,null,null,null,null,null,null,null,null,null,null,null,null,null,null,null,null,""]
[{"$f":"IF(TeamA!C19=\"\",\"\",TeamA!C19)","v":"-"},{"$f":"IF(TeamA!D19=\"\",\"\",TeamA!D19)","v":"-"},null,null,null,null,null,null,null,null,null,null,null,null,{"$f":"IF(TeamA!E19=\"\",\"\",TeamA!E19)","v":""},null,null,null,null,{"$f":"IF(TeamA!F19=\"\",\"\",TeamA!F19)","v":"-"},null,null,null,null,null,null,null,null,null,null,null,null,null,null,null,null,null,null,null,null,null,null,null,null,null,null,null,null,null,null,""]
[{"$f":"IF(TeamA!C20=\"\",\"\",TeamA!C20)","v":"-"},{"$f":"IF(TeamA!D20=\"\",\"\",TeamA!D20)","v":"-"},null,null,null,null,null,null,null,null,null,null,null,null,{"$f":"IF(TeamA!E20=\"\",\"\",TeamA!E20)","v":""},null,null,null,null,{"$f":"IF(TeamA!F20=\"\",\"\",TeamA!F20)","v":"-"},null,null,null,null,null,null,null,null,null,null,null,null,null,null,null,null,null,null,null,null,null,null,null,null,null,null,null,null,null,null,""]
[{"$f":"IF(TeamA!C21=\"\",\"\",TeamA!C21)","v":"-"},{"$f":"IF(TeamA!D21=\"\",\"\",TeamA!D21)","v":"-"},null,null,null,null,null,null,null,null,null,null,null,null,{"$f":"IF(TeamA!E21=\"\",\"\",TeamA!E21)","v":""},null,null,null,null,{"$f":"IF(TeamA!F21=\"\",\"\",TeamA!F21)","v":"-"},null,null,null,null,null,null,null,null,null,null,null,null,null,null,null,null,null,null,null,null,null,null,null,null,null,null,null,null,null,null,""]
[{"$f":"IF(TeamA!C22=\"\",\"\",TeamA!C22)","v":"-"},{"$f":"IF(TeamA!D22=\"\",\"\",TeamA!D22)","v":"-"},null,null,null,null,null,null,null,null,null,null,null,null,{"$f":"IF(TeamA!E22=\"\",\"\",TeamA!E22)","v":""},null,null,null,null,{"$f":"IF(TeamA!F22=\"\",\"\",TeamA!F22)","v":"-"},null,null,null,null,null,null,null,null,null,null,null,null,null,null,null,null,null,null,null,null,null,null,null,null,null,null,null,null,null,null,""]
[{"$f":"IF(TeamA!C23=\"\",\"\",TeamA!C23)","v":"-"},{"$f":"IF(TeamA!D23=\"\",\"\",TeamA!D23)","v":"-"},null,null,null,null,null,null,null,null,null,null,null,null,{"$f":"IF(TeamA!E23=\"\",\"\",TeamA!E23)","v":""},null,null,null,null,{"$f":"IF(TeamA!F23=\"\",\"\",TeamA!F23)","v":"-"},null,null,null,null,null,null,null,null,null,null,null,null,null,null,null,null,null,null,null,null,null,null,null,null,null,null,null,null,null,null,""]
[{"$f":"IF(TeamA!C24=\"\",\"\",TeamA!C24)","v":"-"},{"$f":"IF(TeamA!D24=\"\",\"\",TeamA!D24)","v":"-"},null,null,null,null,null,null,null,null,null,null,null,null,{"$f":"IF(TeamA!E24=\"\",\"\",TeamA!E24)","v":""},null,null,null,null,{"$f":"IF(TeamA!F24=\"\",\"\",TeamA!F24)","v":"-"},null,null,null,null,null,null,null,null,null,null,null,null,null,null,null,null,null,null,null,null,null,null,null,null,null,null,null,null,null,null,""]
[{"$f":"IF(TeamA!C25=\"\",\"\",TeamA!C25)","v":"-"},{"$f":"IF(TeamA!D25=\"\",\"\",TeamA!D25)","v":"-"},null,null,null,null,null,null,null,null,null,null,null,null,{"$f":"IF(TeamA!E25=\"\",\"\",TeamA!E25)","v":""},null,null,null,null,{"$f":"IF(TeamA!F25=\"\",\"\",TeamA!F25)","v":"-"},null,null,null,null,null,null,null,null,null,"Team official in bench",null,null,null,null,null,{"$f":"IF(TeamA!D26=\"\",\"\",TeamA!D26)","v":"-"},null,null,null,null,null,null,null,null,null,null,null,null,null,null,""]
["Team (B)",null,null,null,null,null,{"$f":"IF(GameSheet!G29=\"\",\"\",GameSheet!G29)","v":""},null,null,null,null,null,null,null,null,null,null,null,null,null,null,"Goals",null,null,null,null,null,null,null,"Game Winning Shots",null,null,null,null,null,null,null,null,null,null,null,"Penalties"]
[]
["No.","Family and Given Name",null,null,null,null,null,null,null,null,null,null,null,null,"(+BP+C/A)",null,null,null,null,"Pos",null,"#","Time",null,null,"G","A1","A2","GS","A","B","GKA","GKB","GF:GA",null,null,null,null,null,null,null,"Time",null,null,"No.","Min","Offence",null,null,null,"Start",null,"End"]
[{"$f":"IF(TeamB!C4=\"\",\"\",TeamB!C4)","v":"-"},{"$f":"IF(TeamB!D4=\"\",\"\",TeamB!D4)","v":"-"},null,null,null,null,null,null,null,null,null,null,null,null,{"$f":"IF(TeamB!E4=\"\",\"\",TeamB!E4)","v":""},null,null,null,null,{"$f":"IF(TeamB!F4=\"\",\"\",TeamB!F4)","v":"G"},null,null,null,null,null,null,null,null,null,null,null,null,null,null,null,null,null,null,null,null,null,null,null,null,null,null,null,null,null,null,{"$f":"IF(AP32=\"\",\"\",AP32)","v":""}]
[{"$f":"IF(TeamB!C5=\"\",\"\",TeamB!C5)","v":"-"},{"$f":"IF(TeamB!D5=\"\",\"\",TeamB!D5)","v":"-"},null,null,null,null,null,null,null,null,null,null,null,null,{"$f":"IF(TeamB!E5=\"\",\"\",TeamB!E5)","v":""},null,null,null,null,{"$f":"IF(TeamB!F5=\"\",\"\",TeamB!F5)","v":"-"},null,null,null,null,null,null,null,null,null,null,null,null,null,null,null,null,null,null,null,null,null,null,null,null,null,null,null,null,null,null,{"$f":"IF(AP33=\"\",\"\",AP33)","v":""}]
[{"$f":"IF(TeamB!C6=\"\",\"\",TeamB!C6)","v":"-"},{"$f":"IF(TeamB!D6=\"\",\"\",TeamB!D6)","v":"-"},null,null,null,null,null,null,null,null,null,null,null,null,{"$f":"IF(TeamB!E6=\"\",\"\",TeamB!E6)","v":""},null,null,null,null,{"$f":"IF(TeamB!F6=\"\",\"\",TeamB!F6)","v":"-"},null,null,null,null,null,null,null,null,null,null,null,null,null,null,null,null,null,null,null,null,null,null,null,null,null,null,null,null,null,null,""]
[{"$f":"IF(TeamB!C7=\"\",\"\",TeamB!C7)","v":"-"},{"$f":"IF(TeamB!D7=\"\",\"\",TeamB!D7)","v":"-"},null,null,null,null,null,null,null,null,null,null,null,null,{"$f":"IF(TeamB!E7=\"\",\"\",TeamB!E7)","v":""},null,null,null,null,{"$f":"IF(TeamB!F7=\"\",\"\",TeamB!F7)","v":"-"},null,null,null,null,null,null,null,null,null,null,null,null,null,null,null,null,null,null,null,null,null,null,null,null,null,null,null,null,null,null,""]
[{"$f":"IF(TeamB!C8=\"\",\"\",TeamB!C8)","v":"-"},{"$f":"IF(TeamB!D8=\"\",\"\",TeamB!D8)","v":"-"},null,null,null,null,null,null,null,null,null,null,null,null,{"$f":"IF(TeamB!E8=\"\",\"\",TeamB!E8)","v":""},null,null,null,null,{"$f":"IF(TeamB!F8=\"\",\"\",TeamB!F8)","v":"-"},null,null,null,null,null,null,null,null,null,null,null,null,null,null,null,null,null,null,null,null,null,null,null,null,null,null,null,null,null,null,""]
[{"$f":"IF(TeamB!C9=\"\",\"\",TeamB!C9)","v":"-"},{"$f":"IF(TeamB!D9=\"\",\"\",TeamB!D9)","v":"-"},null,null,null,null,null,null,null,null,null,null,null,null,{"$f":"IF(TeamB!E9=\"\",\"\",TeamB!E9)","v":""},null,null,null,null,{"$f":"IF(TeamB!F9=\"\",\"\",TeamB!F9)","v":"-"},null,null,null,null,null,null,null,null,null,null,null,null,null,null,null,null,null,null,null,null,null,null,null,null,null,null,null,null,null,null,""]
[{"$f":"IF(TeamB!C10=\"\",\"\",TeamB!C10)","v":"-"},{"$f":"IF(TeamB!D10=\"\",\"\",TeamB!D10)","v":"-"},null,null,null,null,null,null,null,null,null,null,null,null,{"$f":"IF(TeamB!E10=\"\",\"\",TeamB!E10)","v":""},null,null,null,null,{"$f":"IF(TeamB!F10=\"\",\"\",TeamB!F10)","v":"-"},null,null,null,null,null,null,null,null,null,null,null,null,null,null,null,null,null,null,null,null,null,null,null,null,null,null,null,null,null,null,""]
[{"$f":"IF(TeamB!C11=\"\",\"\",TeamB!C11)","v":"-"},{"$f":"IF(TeamB!D11=\"\",\"\",TeamB!D11)","v":"-"},null,null,null,null,null,null,null,null,null,null,null,null,{"$f":"IF(TeamB!E11=\"\",\"\",TeamB!E11)","v":""},null,null,null,null,{"$f":"IF(TeamB!F11=\"\",\"\",TeamB!F11)","v":"-"},null,null,null,null,null,null,null,null,null,null,null,null,null,null,null,null,null,null,null,null,null,null,null,null,null,null,null,null,null,null,""]
[{"$f":"IF(TeamB!C12=\"\",\"\",TeamB!C12)","v":"-"},{"$f":"IF(TeamB!D12=\"\",\"\",TeamB!D12)","v":"-"},null,null,null,null,null,null,null,null,null,null,null,null,{"$f":"IF(TeamB!E12=\"\",\"\",TeamB!E12)","v":""},null,null,null,null,{"$f":"IF(TeamB!F12=\"\",\"\",TeamB!F12)","v":"-"},null,null,null,null,null,null,null,null,null,null,null,null,null,null,null,null,null,null,null,null,null,null,null,null,null,null,null,null,null,null,""]
[{"$f":"IF(TeamB!C13=\"\",\"\",TeamB!C13)","v":"-"},{"$f":"IF(TeamB!D13=\"\",\"\",TeamB!D13)","v":"-"},null,null,null,null,null,null,null,null,null,null,null,null,{"$f":"IF(TeamB!E13=\"\",\"\",TeamB!E13)","v":""},null,null,null,null,{"$f":"IF(TeamB!F13=\"\",\"\",TeamB!F13)","v":"-"},null,null,null,null,null,null,null,null,null,null,null,null,null,null,null,null,null,null,null,null,null,null,null,null,null,null,null,null,null,null,""]
[{"$f":"IF(TeamB!C14=\"\",\"\",TeamB!C14)","v":"-"},{"$f":"IF(TeamB!D14=\"\",\"\",TeamB!D14)","v":"-"},null,null,null,null,null,null,null,null,null,null,null,null,{"$f":"IF(TeamB!E14=\"\",\"\",TeamB!E14)","v":""},null,null,null,null,{"$f":"IF(TeamB!F14=\"\",\"\",TeamB!F14)","v":"-"},null,null,null,null,null,null,null,null,null,null,null,null,null,null,null,null,null,null,null,null,null,null,null,null,null,null,null,null,null,null,""]
[{"$f":"IF(TeamB!C15=\"\",\"\",TeamB!C15)","v":"-"},{"$f":"IF(TeamB!D15=\"\",\"\",TeamB!D15)","v":"-"},null,null,null,null,null,null,null,null,null,null,null,null,{"$f":"IF(TeamB!E15=\"\",\"\",TeamB!E15)","v":""},null,null,null,null,{"$f":"IF(TeamB!F15=\"\",\"\",TeamB!F15)","v":"-"},null,null,null,null,null,null,null,null,null,null,null,null,null,null,null,null,null,null,null,null,null,null,null,null,null,null,null,null,null,null,""]
[{"$f":"IF(TeamB!C16=\"\",\"\",TeamB!C16)","v":"-"},{"$f":"IF(TeamB!D16=\"\",\"\",TeamB!D16)","v":"-"},null,null,null,null,null,null,null,null,null,null,null,null,{"$f":"IF(TeamB!E16=\"\",\"\",TeamB!E16)","v":""},null,null,null,null,{"$f":"IF(TeamB!F16=\"\",\"\",TeamB!F16)","v":"-"},null,null,null,null,null,null,null,null,null,null,null,null,null,null,null,null,null,null,null,null,null,null,null,null,null,null,null,null,null,null,""]
[{"$f":"IF(TeamB!C17=\"\",\"\",TeamB!C17)","v":"-"},{"$f":"IF(TeamB!D17=\"\",\"\",TeamB!D17)","v":"-"},null,null,null,null,null,null,null,null,null,null,null,null,{"$f":"IF(TeamB!E17=\"\",\"\",TeamB!E17)","v":""},null,null,null,null,{"$f":"IF(TeamB!F17=\"\",\"\",TeamB!F17)","v":"-"},null,null,null,null,null,null,null,null,null,null,null,null,null,null,null,null,null,null,null,null,null,null,null,null,null,null,null,null,null,null,""]
[{"$f":"IF(TeamB!C18=\"\",\"\",TeamB!C18)","v":"-"},{"$f":"IF(TeamB!D18=\"\",\"\",TeamB!D18)","v":"-"},null,null,null,null,null,null,null,null,null,null,null,null,{"$f":"IF(TeamB!E18=\"\",\"\",TeamB!E18)","v":""},null,null,null,null,{"$f":"IF(TeamB!F18=\"\",\"\",TeamB!F18)","v":"-"},null,null,null,null,null,null,null,null,null,null,null,null,null,null,null,null,null,null,null,null,null,null,null,null,null,null,null,null,null,null,""]
[{"$f":"IF(TeamB!C19=\"\",\"\",TeamB!C19)","v":"-"},{"$f":"IF(TeamB!D19=\"\",\"\",TeamB!D19)","v":"-"},null,null,null,null,null,null,null,null,null,null,null,null,{"$f":"IF(TeamB!E19=\"\",\"\",TeamB!E19)","v":""},null,null,null,null,{"$f":"IF(TeamB!F19=\"\",\"\",TeamB!F19)","v":"-"},null,null,null,null,null,null,null,null,null,null,null,null,null,null,null,null,null,null,null,null,null,null,null,null,null,null,null,null,null,null,""]
[{"$f":"IF(TeamB!C20=\"\",\"\",TeamB!C20)","v":"-"},{"$f":"IF(TeamB!D20=\"\",\"\",TeamB!D20)","v":"-"},null,null,null,null,null,null,null,null,null,null,null,null,{"$f":"IF(TeamB!E20=\"\",\"\",TeamB!E20)","v":""},null,null,null,null,{"$f":"IF(TeamB!F20=\"\",\"\",TeamB!F20)","v":"-"},null,null,null,null,null,null,null,null,null,null,null,null,null,null,null,null,null,null,null,null,null,null,null,null,null,null,null,null,null,null,""]
[{"$f":"IF(TeamB!C21=\"\",\"\",TeamB!C21)","v":"-"},{"$f":"IF(TeamB!D21=\"\",\"\",TeamB!D21)","v":"-"},null,null,null,null,null,null,null,null,null,null,null,null,{"$f":"IF(TeamB!E21=\"\",\"\",TeamB!E21)","v":""},null,null,null,null,{"$f":"IF(TeamB!F21=\"\",\"\",TeamB!F21)","v":"-"},null,null,null,null,null,null,null,null,null,null,null,null,null,null,null,null,null,null,null,null,null,null,null,null,null,null,null,null,null,null,""]
[{"$f":"IF(TeamB!C22=\"\",\"\",TeamB!C22)","v":"-"},{"$f":"IF(TeamB!D22=\"\",\"\",TeamB!D22)","v":"-"},null,null,null,null,null,null,null,null,null,null,null,null,{"$f":"IF(TeamB!E22=\"\",\"\",TeamB!E22)","v":""},null,null,null,null,{"$f":"IF(TeamB!F22=\"\",\"\",TeamB!F22)","v":"-"},null,null,null,null,null,null,null,null,null,null,null,null,null,null,null,null,null,null,null,null,null,null,null,null,null,null,null,null,null,null,""]
[{"$f":"IF(TeamB!C23=\"\",\"\",TeamB!C23)","v":"-"},{"$f":"IF(TeamB!D23=\"\",\"\",TeamB!D23)","v":"-"},null,null,null,null,null,null,null,null,null,null,null,null,{"$f":"IF(TeamB!E23=\"\",\"\",TeamB!E23)","v":""},null,null,null,null,{"$f":"IF(TeamB!F23=\"\",\"\",TeamB!F23)","v":"-"},null,null,null,null,null,null,null,null,null,null,null,null,null,null,null,null,null,null,null,null,null,null,null,null,null,null,null,null,null,null,""]
[{"$f":"IF(TeamB!C24=\"\",\"\",TeamB!C24)","v":"-"},{"$f":"IF(TeamB!D24=\"\",\"\",TeamB!D24)","v":"-"},null,null,null,null,null,null,null,null,null,null,null,null,{"$f":"IF(TeamB!E24=\"\",\"\",TeamB!E24)","v":""},null,null,null,null,{"$f":"IF(TeamB!F24=\"\",\"\",TeamB!F24)","v":"-"},null,null,null,null,null,null,null,null,null,null,null,null,null,null,null,null,null,null,null,null,null,null,null,null,null,null,null,null,null,null,""]
[{"$f":"IF(TeamB!C25=\"\",\"\",TeamB!C25)","v":"-"},{"$f":"IF(TeamB!D25=\"\",\"\",TeamB!D25)","v":"-"},null,null,null,null,null,null,null,null,null,null,null,null,{"$f":"IF(TeamB!E25=\"\",\"\",TeamB!E25)","v":""},null,null,null,null,{"$f":"IF(TeamB!F25=\"\",\"\",TeamB!F25)","v":"-"},null,null,null,null,null,null,null,null,null,"Team official in bench",null,null,null,null,null,{"$f":"IF(TeamB!D27=\"\",\"\",TeamB!D27)","v":"-"},null,null,null,null,null,null,null,null,null,null,null,null,null,null,""]
["Game Summary",null,null,null,null,null,null,null,null,null,null,null,null,null,null,null,null,null,null,null,null,"Saves",null,null,null,null,null,null,null,null,"Goalkeeper Records",null,null,null,null,null,null,null,null,null,null,null,null,null,null,null,null,"Goalkeepers Changes"]
["Period",null,"G A:B",null,null,"SOG A:B",null,null,"PIM A:B",null,null,"PPGF A:B",null,null,null,null,null,"SHGF A:B",null,null,null,"GKA1",null,"GKA2",null,"GKB1",null,"GKB2",null,null,"GKA",null,"MIP",null,"GA",null,"GKB",null,"MIP",null,"GA",null,null,null,null,null,null,"Time",null,null,"GKA",null,"GKB"]
[1,null,{"$f":"GameSheet!C56","v":0},":",{"$f":"GameSheet!E56","v":0},{"$f":"GameSheet!F56","v":0},":",{"$f":"GameSheet!H56","v":0},{"$f":"GameSheet!I56","v":0},":",{"$f":"GameSheet!K56","v":0},{"$f":"GameSheet!L56","v":0},null,":",null,{"$f":"GameSheet!P56","v":0},null,{"$f":"GameSheet!R56","v":0},":",null,{"$f":"GameSheet!U56","v":0},{"$f":"GameSheet!V56","v":0},null,{"$f":"GameSheet!X56","v":"-"},null,{"$f":"GameSheet!Z56","v":0},null,{"$f":"GameSheet!AB56","v":"-"},null,null,{"$f":"GameSheet!AE56","v":"-"},null,{"$f":"GameSheet!AG56","v":0},null,{"$f":"GameSheet!AI56","v":"0"},null,{"$f":"GameSheet!AK56","v":"-"},null,{"$f":"GameSheet!AM56","v":0},null,{"$f":"GameSheet!AO56","v":"0"},null,null,null,null,null,null,{"$f":"GameSheet!AV56","v":0},null,null,{"$f":"IF(GameSheet!AY56=\"\",\"\",GameSheet!AY56)","v":"-"},null,{"$f":"IF(GameSheet!BA56=\"\",\"\",GameSheet!BA56)","v":"-"}]
[2,null,{"$f":"GameSheet!C57","v":0},":",{"$f":"GameSheet!E57","v":0},{"$f":"GameSheet!F57","v":0},":",{"$f":"GameSheet!H57","v":0},{"$f":"GameSheet!I57","v":0},":",{"$f":"GameSheet!K57","v":0},{"$f":"GameSheet!L57","v":0},null,":",null,{"$f":"GameSheet!P57","v":0},null,{"$f":"GameSheet!R57","v":0},":",null,{"$f":"GameSheet!U57","v":0},{"$f":"GameSheet!V57","v":"-"},null,{"$f":"GameSheet!X57","v":"-"},null,{"$f":"GameSheet!Z57","v":"-"},null,{"$f":"GameSheet!AB57","v":"-"},null,null,{"$f":"GameSheet!AE57","v":"-"},null,{"$f":"GameSheet!AG57","v":"-"},null,{"$f":"GameSheet!AI57","v":"-"},null,{"$f":"GameSheet!AK57","v":"-"},null,{"$f":"GameSheet!AM57","v":"-"},null,{"$f":"GameSheet!AO57","v":"-"},null,null,null,null,null,null,{"$f":"IF(GameSheet!AV57=\"\",\"\",GameSheet!AV57)","v":""},null,null,{"$f":"IF(GameSheet!AY57=\"\",\"\",GameSheet!AY57)","v":""},null,{"$f":"IF(GameSheet!BA57=\"\",\"\",GameSheet!BA57)","v":""}]
[3,null,{"$f":"GameSheet!C58","v":0},":",{"$f":"GameSheet!E58","v":0},{"$f":"GameSheet!F58","v":0},":",{"$f":"GameSheet!H58","v":0},{"$f":"GameSheet!I58","v":0},":",{"$f":"GameSheet!K58","v":0},{"$f":"GameSheet!L58","v":0},null,":",null,{"$f":"GameSheet!P58","v":0},null,{"$f":"GameSheet!R58","v":0},":",null,{"$f":"GameSheet!U58","v":0},{"$f":"GameSheet!V58","v":"-"},null,{"$f":"GameSheet!X58","v":"-"},null,{"$f":"GameSheet!Z58","v":"-"},null,{"$f":"GameSheet!AB58","v":"-"},null,null,"Start of game:",null,null,{"$f":"IF(GameSheet!AH58=\"\",\"\",GameSheet!AH58)","v":""},null,null,"End of game:",null,null,{"$f":"IF(GameSheet!AN58=\"\",\"\",GameSheet!AN58)","v":""},null,null,null,null,null,null,null,{"$f":"IF(GameSheet!AV58=\"\",\"\",GameSheet!AV58)","v":""},null,null,{"$f":"IF(GameSheet!AY58=\"\",\"\",GameSheet!AY58)","v":""},null,{"$f":"IF(GameSheet!BA58=\"\",\"\",GameSheet!BA58)","v":""}]
["OVT",null,{"$f":"GameSheet!C59","v":"-"},":",{"$f":"GameSheet!E59","v":"-"},{"$f":"GameSheet!F59","v":"-"},":",{"$f":"GameSheet!H59","v":"-"},{"$f":"GameSheet!I59","v":"-"},":",{"$f":"GameSheet!K59","v":"-"},{"$f":"GameSheet!L59","v":"-"},null,":",null,{"$f":"GameSheet!P59","v":"-"},null,{"$f":"GameSheet!R59","v":"-"},":",null,{"$f":"GameSheet!U59","v":"-"},{"$f":"GameSheet!V59","v":"-"},null,{"$f":"GameSheet!X59","v":"-"},null,{"$f":"GameSheet!Z59","v":"-"},null,{"$f":"GameSheet!AB59","v":"-"},null,null,"Timeout A:",null,null,{"$f":"IF(GameSheet!AH59=\"\",\"\",GameSheet!AH59)","v":"-"},null,null,"Timeout B:",null,null,{"$f":"IF(GameSheet!AN59=\"\",\"\",GameSheet!AN59)","v":"-"},null,null,null,null,null,null,null,{"$f":"IF(GameSheet!AV59=\"\",\"\",GameSheet!AV59)","v":""},null,null,{"$f":"IF(GameSheet!AY59=\"\",\"\",GameSheet!AY59)","v":""},null,{"$f":"IF(GameSheet!BA59=\"\",\"\",GameSheet!BA59)","v":""}]
["GWS",null,{"$f":"GameSheet!C60","v":"-"},":",{"$f":"GameSheet!E60","v":"-"},{"$f":"GameSheet!F60","v":"-"},":",{"$f":"GameSheet!H60","v":"-"},{"$f":"GameSheet!I60","v":"-"},":",{"$f":"GameSheet!K60","v":"-"},{"$f":"GameSheet!L60","v":"-"},null,":",null,{"$f":"GameSheet!P60","v":"-"},null,{"$f":"GameSheet!R60","v":"-"},":",null,{"$f":"GameSheet!U60","v":"-"},{"$f":"GameSheet!V60","v":"-"},null,{"$f":"GameSheet!X60","v":"-"},null,{"$f":"GameSheet!Z60","v":"-"},null,{"$f":"GameSheet!AB60","v":"-"},null,null,"Game Supervisor :",null,null,null,null,{"$f":"IF(GameSheet!AJ60=\"\",\"\",GameSheet!AJ60)","v":""},null,null,null,null,null,null,null,null,null,null,null,{"$f":"IF(GameSheet!AV60=\"\",\"\",GameSheet!AV60)","v":""},null,null,{"$f":"IF(GameSheet!AY60=\"\",\"\",GameSheet!AY60)","v":""},null,{"$f":"IF(GameSheet!BA60=\"\",\"\",GameSheet!BA60)","v":""}]
["TOTAL",null,{"$f":"IF(ISBLANK(C56),\"\",SUM(C56:C60))","v":0},":",{"$f":"IF(ISBLANK(E56),\"\",SUM(E56:E60))","v":0},{"$f":"SUM(F56:F60)","v":0},":",{"$f":"SUM(H56:H60)","v":0},{"$f":"SUM(I56:I60)","v":0},":",{"$f":"SUM(K56:K60)","v":0},{"$f":"SUM(L56:M60)","v":0},null,":",null,{"$f":"SUM(P56:Q60)","v":0},null,{"$f":"SUM(R56:R60)","v":0},":",null,{"$f":"SUM(U56:U60)","v":0},{"$f":"GameSheet!V61","v":0},null,{"$f":"GameSheet!X61","v":"-"},null,{"$f":"GameSheet!Z61","v":0},null,{"$f":"GameSheet!AB61","v":"-"},null,null,null,null,null,null,null,null,null,null,null,null,null,null,null,null,null,null,null,{"$f":"IF(GameSheet!AV61=\"\",\"\",GameSheet!AV61)","v":""},null,null,{"$f":"IF(GameSheet!AY61=\"\",\"\",GameSheet!AY61)","v":""},null,{"$f":"IF(GameSheet!BA61=\"\",\"\",GameSheet!BA61)","v":""}]
["Head Coarches and Off-Ice Officials",null,null,null,null,null,null,null,null,null,null,null,null,null,null,null,null,null,null,null,null,null,null,null,null,null,null,null,null,null,null,null,null,null,null,null,null,null,null,null,null,null,null,null,null,null,null,{"$f":"IF(GameSheet!AV62=\"\",\"\",GameSheet!AV62)","v":""},null,null,{"$f":"IF(GameSheet!AY62=\"\",\"\",GameSheet!AY62)","v":""},null,{"$f":"IF(GameSheet!BA62=\"\",\"\",GameSheet!BA62)","v":""}]
["Head Coarch A:",null,null,null,null,null,{"$f":"IF(GameSheet!G63=\"\",\"\",GameSheet!G63)","v":"-"},null,null,null,null,null,null,null,null,null,null,null,null,null,null,"Goal Judge:",null,null,null,null,{"$f":"IF(GameSheet!AA63=\"\",\"\",GameSheet!AA63)","v":""},null,null,null,null,null,null,"Linesman:",null,null,null,null,{"$f":"IF(GameSheet!AM63=\"\",\"\",GameSheet!AM63)","v":""},null,null,null,null,null,null,null,null,{"$f":"IF(GameSheet!AV63=\"\",\"\",GameSheet!AV63)","v":""},null,null,{"$f":"IF(GameSheet!AY63=\"\",\"\",GameSheet!AY63)","v":""},null,{"$f":"IF(GameSheet!BA63=\"\",\"\",GameSheet!BA63)","v":""}]
["Head Coarch B:",null,null,null,null,null,{"$f":"IF(GameSheet!G64=\"\",\"\",GameSheet!G64)","v":"-"},null,null,null,null,null,null,null,null,null,null,null,null,null,null,"Goal Judge:",null,null,null,null,{"$f":"IF(GameSheet!AA64=\"\",\"\",GameSheet!AA64)","v":""},null,null,null,null,null,null,"Linesman:",null,null,null,null,{"$f":"IF(GameSheet!AM64=\"\",\"\",GameSheet!AM64)","v":""},null,null,null,null,null,null,null,null,{"$f":"IF(GameSheet!AV64=\"\",\"\",GameSheet!AV64)","v":""},null,null,{"$f":"IF(GameSheet!AY64=\"\",\"\",GameSheet!AY64)","v":""},null,{"$f":"IF(GameSheet!BA64=\"\",\"\",GameSheet!BA64)","v":""}]
["Timekeeper:",null,null,null,null,null,{"$f":"IF(GameSheet!G65=\"\",\"\",GameSheet!G65)","v":""},null,null,null,null,null,null,null,null,null,null,null,null,null,null,"Penalty Bench Attendant:",null,null,null,null,{"$f":"IF(GameSheet!AA65=\"\",\"\",GameSheet!AA65)","v":""},null,null,null,null,null,null,"Referee:",null,null,null,null,{"$f":"IF(GameSheet!AM65=\"\",\"\",GameSheet!AM65)","v":""},null,null,null,null,null,null,null,null,{"$f":"IF(GameSheet!AV65=\"\",\"\",GameSheet!AV65)","v":""},null,null,{"$f":"IF(GameSheet!AY65=\"\",\"\",GameSheet!AY65)","v":""},null,{"$f":"IF(GameSheet!BA65=\"\",\"\",GameSheet!BA65)","v":""}]
["Pnalty Timekeeper:",null,null,null,null,null,{"$f":"IF(GameSheet!G66=\"\",\"\",GameSheet!G66)","v":""},null,null,null,null,null,null,null,null,null,null,null,null,null,null,"Penalty Bench Attendant:",null,null,null,null,{"$f":"IF(GameSheet!AA66=\"\",\"\",GameSheet!AA66)","v":""},null,null,null,null,null,null,"Sign. Referee:",null,null,null,null,null,null,null,null,null,null,null,null,null,{"$f":"IF(GameSheet!AV66=\"\",\"\",GameSheet!AV66)","v":""},null,null,{"$f":"IF(GameSheet!AY66=\"\",\"\",GameSheet!AY66)","v":""},null,{"$f":"IF(GameSheet!BA66=\"\",\"\",GameSheet!BA66)","v":""}]
["Announcer:",null,null,null,null,null,{"$f":"IF(GameSheet!G67=\"\",\"\",GameSheet!G67)","v":""},null,null,null,null,null,null,null,null,null,null,null,null,null,null,"Scorekeeper:",null,null,null,null,{"$f":"IF(GameSheet!AA67=\"\",\"\",GameSheet!AA67)","v":""},null,null,null,null,null,null,null,null,null,null,null,null,null,null,null,null,null,null,null,null,{"$f":"IF(GameSheet!AV67=\"\",\"\",GameSheet!AV67)","v":""},null,null,{"$f":"IF(GameSheet!AY67=\"\",\"\",GameSheet!AY67)","v":""},null,{"$f":"IF(GameSheet!BA67=\"\",\"\",GameSheet!BA67)","v":""}]
[]
["Notes"]

{"sheet":"TeamA","index":6,"n_rows":80,"n_cols":13,"rows_kept":80,"cut":false,"hidden":false,"merged":[[1,1,1,5]]}
[]
[null,"チームＡ入力　　　　　　　　　　　　　　       H列の登録番号をB列に入力すると選手名をＤ列に代入します　　　　　　"]
[null,"登録番号","背番号","出場者氏名","(C/A)","Pos",null,"登録番号","登録者氏名","Status","POS","#","C/A"]
["GK1->",null,"-",{"$f":"IF(B4=\"\",\"-\",VLOOKUP(B4,$H$4:$I$80,2,FALSE))","v":"-"},null,"G",null,"1"]
["GK2->",null,{"$f":"IF(B5=\"\",\"-\",VLOOKUP(B5,$H$4:$M$80,5,FALSE))","v":"-"},{"$f":"IF(B5=\"\",\"-\",VLOOKUP(B5,$H$4:$I$80,2,FALSE))","v":"-"},null,{"$f":"IF(D5=\"-\",\"-\",\"G\")","v":"-"},null,"2"]
[null,null,"-",{"$f":"IF(B6=\"\",\"-\",VLOOKUP(B6,$H$4:$I$80,2,FALSE))","v":"-"},null,{"$f":"IF(B6=\"\",\"-\",VLOOKUP(B6,$H$4:$M$80,4,FALSE))","v":"-"},null,"3"]
[null,null,"-","-",null,{"$f":"IF(B7=\"\",\"-\",VLOOKUP(B7,$H$4:$M$80,4,FALSE))","v":"-"},null,"4"]
[null,null,"-","-",{"$f":"IF((IF(B8=\"\",\"\",VLOOKUP(B8,$H$4:$M$80,6,FALSE)))=\"\",\"\",(IF(B8=\"\",\"\",VLOOKUP(B8,$H$4:$M$80,6,FALSE))))","v":""},"-",null,"5"]
[null,null,"-","-",null,"-",null,"6"]
[null,null,"-","-","","-",null,"7"]
[null,null,"-","-",null,"-",null,"8"]
[null,null,"-","-","","-",null,"9"]
[null,null,"-","-","","-",null,"10"]
[null,null,"-","-",null,"-",null,"11"]
[null,null,"-","-","","-",null,"12"]
[null,null,"-","-","","-",null,"13"]
[null,null,"-","-","","-",null,"14"]
[null,null,"-","-","","-",null,"15"]
[null,null,"-","-","","-",null,"16"]
[null,null,"-","-","","-",null,"17"]
[null,null,"-","-","","-",null,"18"]
[null,null,"-","-","","-",null,"19"]
[null,null,"-","-","","-",null,"20"]
[null,null,"-","-","","-",null,"21"]
[null,null,"-","-","","-",null,"22"]
[null,null,"監督","-",null,"-",null,"23"]
[null,null,"ベンチ役員","-",null,"-",null,"24"]
[null,null,null,null,null,null,null,"25"]
[null,null,null,null,null,null,null,"26"]
[null,null,null,null,null,null,null,"27"]
[null,null,null,null,null,null,null,"28"]
[null,null,null,null,null,null,null,"29"]
[null,null,null,null,null,null,null,"30"]
[null,null,null,null,null,null,null,"31"]
[null,null,null,null,null,null,null,"32"]
[null,null,null,null,null,null,null,"33"]
[null,null,null,null,null,null,null,"34"]
[null,null,null,null,null,null,null,"35"]
[null,null,null,null,null,null,null,"36"]
[null,null,null,null,null,null,null,"37"]
[null,null,null,null,null,null,null,"38"]
[null,null,null,null,null,null,null,"39"]
[null,null,null,null,null,null,null,"40"]
[null,null,null,null,null,null,null,"41"]
[null,null,null,null,null,null,null,"42"]
[null,null,null,null,null,null,null,"43"]
[null,null,null,null,null,null,null,"44"]
[null,null,null,null,null,null,null,"45"]
[null,null,null,null,null,null,null,"46"]
[null,null,null,null,null,null,null,"47"]
[null,null,null,null,null,null,null,"48"]
[null,null,null,null,null,null,null,"49"]
[null,null,null,null,null,null,null,"50"]
[null,null,null,null,null,null,null,"51"]
[null,null,null,null,null,null,null,"52"]
[null,null,null,null,null,null,null,"53"]
[null,null,null,null,null,null,null,"54"]
[null,null,null,null,null,null,null,"55"]
[null,null,null,null,null,null,null,"56"]
[null,null,null,null,null,null,null,"57"]
[null,null,null,null,null,null,null,"58"]
[null,null,null,null,null,null,null,"59"]
[null,null,null,null,null,null,null,"60"]
[null,null,null,null,null,null,null,"61"]
[null,null,null,null,null,null,null,"62"]
[null,null,null,null,null,null,null,"63"]
[null,null,null,null,null,null,null,"64"]
[null,null,null,null,null,null,null,"65"]
[null,null,null,null,null,null,null,"66"]
[null,null,null,null,null,null,null,"67"]
[null,null,null,null,null,null,null,"68"]
[null,null,null,null,null,null,null,"69"]
[null,null,null,null,null,null,null,"70"]
[null,null,null,null,null,null,null,"71"]
[null,null,null,null,null,null,null,"72"]
[null,null,null,null,null,null,null,"73"]
[null,null,null,null,null,null,null,"74"]
[null,null,null,null,null,null,null,"75"]
[null,null,null,null,null,null,null,"76"]
[null,null,null,null,null,null,null,"77"]

{"sheet":"TeamB","index":7,"n_rows":80,"n_cols":57,"rows_kept":80,"cut":false,"hidden":false,"merged":[[1,1,1,5]]}
[]
[null,"チームＢ入力　　　　　　　　　　　　　　       H列の登録番号をB列に入力すると選手名をＤ列に代入します　　　　　　",null,null,null,null,null,null,null,null,2,44,null,null,null,null,null,null,null,"TeB-T",null,null,null,null,null,null,null,null,null,null,null,null,null,null,null,null,null,null,null,null,null,null,null,null,null,null,null,null,null,null,null,null,null,89,122,null,"ゴール   3番 :  井出  哲郎"]
[null,"登録番号","背番号","出場者氏名","(C/A)","Pos",null,"登録番号","登録者氏名","Status","POS","#","C/A"]
["GK1->",null,{"$f":"IF(B4=\"\",\"-\",VLOOKUP(B4,$H$4:$M$80,5,FALSE))","v":"-"},{"$f":"IF(B4=\"\",\"-\",VLOOKUP(B4,$H$4:$I$80,2,FALSE))","v":"-"},null,"G",null,"1"]
["GK2->",null,{"$f":"IF(B5=\"\",\"-\",VLOOKUP(B5,$H$4:$M$80,5,FALSE))","v":"-"},{"$f":"IF(B5=\"\",\"-\",VLOOKUP(B5,$H$4:$I$80,2,FALSE))","v":"-"},null,{"$f":"IF(D5=\"-\",\"-\",\"G\")","v":"-"},null,"2"]
[null,null,"-",{"$f":"IF(B6=\"\",\"-\",VLOOKUP(B6,$H$4:$I$80,2,FALSE))","v":"-"},null,{"$f":"IF(B6=\"\",\"-\",VLOOKUP(B6,$H$4:$M$80,4,FALSE))","v":"-"},null,"3"]
[null,null,"-","-",null,{"$f":"IF(B7=\"\",\"-\",VLOOKUP(B7,$H$4:$M$80,4,FALSE))","v":"-"},null,"4"]
[null,null,"-","-",null,"-",null,"5"]
[null,null,"-","-",{"$f":"IF((IF(B9=\"\",\"\",VLOOKUP(B9,$H$4:$M$80,6,FALSE)))=\"\",\"\",(IF(B9=\"\",\"\",VLOOKUP(B9,$H$4:$M$80,6,FALSE))))","v":""},"-",null,"6"]
[null,null,"-","-",{"$f":"IF((IF(B10=\"\",\"\",VLOOKUP(B10,$H$4:$M$80,6,FALSE)))=\"\",\"\",(IF(B10=\"\",\"\",VLOOKUP(B10,$H$4:$M$80,6,FALSE))))","v":""},"-",null,"7"]
[null,null,"-","-",null,"-",null,"8"]
[null,null,"-","-",{"$f":"IF((IF(B12=\"\",\"\",VLOOKUP(B12,$H$4:$M$80,6,FALSE)))=\"\",\"\",(IF(B12=\"\",\"\",VLOOKUP(B12,$H$4:$M$80,6,FALSE))))","v":""},"-",null,"9"]
[null,null,"-","-","","-",null,"10"]
[null,null,"-","-",null,"-",null,"11"]
[null,null,"-","-","","-",null,"12"]
[null,null,"-","-","","-",null,"13"]
[null,null,"-","-","","-",null,"14"]
[null,null,"-","-","","-",null,"15"]
[null,null,"-","-","","-",null,"16"]
[null,null,"-","-","","-",null,"17"]
[null,null,"-","-","","-",null,"18"]
[null,null,"-","-","","-",null,"19"]
[null,null,"-","-","","-",null,"20"]
[null,null,"-","-","","-",null,"21"]
[null,null,"-","-","","-",null,"22"]
[null,null,"監督","-",null,"-",null,"23"]
[null,null,"ベンチ役員","-",null,"-",null,"24"]
[null,null,null,null,null,null,null,"25"]
[null,null,null,null,null,null,null,"26"]
[null,null,null,null,null,null,null,"27"]
[null,null,null,null,null,null,null,"28"]
[null,null,null,null,null,null,null,"29"]
[null,null,null,null,null,null,null,"30"]
[null,null,null,null,null,null,null,"31"]
[null,null,null,null,null,null,null,"32"]
[null,null,null,null,null,null,null,"33"]
[null,null,null,null,null,null,null,"34"]
[null,null,null,null,null,null,null,"35"]
[null,null,null,null,null,null,null,"36"]
[null,null,null,null,null,null,null,"37"]
[null,null,null,null,null,null,null,"38"]
[null,null,null,null,null,null,null,"39"]
[null,null,null,null,null,null,null,"40"]
[null,null,null,null,null,null,null,"41"]
[null,null,null,null,null,null,null,"42"]
[null,null,null,null,null,null,null,"43"]
[null,null,null,null,null,null,null,"44"]
[null,null,null,null,null,null,null,"45"," "," "]
[null,null,null,null,null,null,null,"46"," "," "]
[null,null,null,null,null,null,null,"47"," "," "]
[null,null,null,null,null,null,null,"48"," "," "]
[null,null,null,null,null,null,null,"49"," "," "]
[null,null,null,null,null,null,null,"50"," "," "]
[null,null,null,null,null,null,null,"51"," "," "]
[null,null,null,null,null,null,null,"52"," "," "]
[null,null,null,null,null,null,null,"53"," "," "]
[null,null,null,null,null,null,null,"54"," "," "]
[null,null,null,null,null,null,null,"55"," "," "]
[null,null,null,null,null,null,null,"56"," "," "]
[null,null,null,null,null,null,null,"57"," "," "]
[null,null,null,null,null,null,null,"58"," "," "]
[null,null,null,null,null,null,null,"59"," "," "]
[null,null,null,null,null,null,null,"60"," "," "]
[null,null,null,null,null,null,null,"61"," "," "]
[null,null,null,null,null,null,null,"62"," "," "]
[null,null,null,null,null,null,null,"63"," "," "]
[null,null,null,null,null,null,null,"64"," "," "]
[null,null,null,null,null,null,null,"65"," "," "]
[null,null,null,null,null,null,null,"66"," "," "]
[null,null,null,null,null,null,null,"67"," "," "]
[null,null,null,null,null,null,null,"68"," "," "]
[null,null,null,null,null,null,null,"69"," "," "]
[null,null,null,null,null,null,null,"70"," "," "]
[null,null,null,null,null,null,null,"71"," "," "]
[null,null,null,null,null,null,null,"72"," "," "]
[null,null,null,null,null,null,null,"73"," "," "]
[null,null,null,null,null,null,null,"74"," "," "]
[null,null,null,null,null,null,null,"75"," "," "]
[null,null,null,null,null,null,null,"76"," "," "]
[null,null,null,null,null,null,null,"77",null," "]

{"sheet":"List","index":8,"n_rows":205,"n_cols":40,"rows_kept":205,"cut":false,"hidden":false,"merged":[[4,23,4,30],[4,31,4,32],[1,23,1,30],[1,31,1,32],[2,23,2,30],[2,31,2,32],[3,23,3,30],[3,31,3,32],[11,23,11,30],[11,31,11,32],[7,23,7,30],[7,31,7,32],[9,23,9,30],[9,31,9,32],[16,23,16,30],[16,31,16,32],[5,23,5,30],[5,31,5,32],[6,23,6,30],[6,31,6,32],[13,23,13,30],[13,31,13,32],[10,23,10,30],[10,31,10,32],[0,22,0,26],[0,27,0,33],[14,23,14,30],[14,31,14,32],[15,23,15,30],[15,31,15,32],[12,23,12,30],[12,31,12,32],[8,23,8,30],[8,31,8,32],[17,23,17,30],[17,31,17,32],[18,23,18,30],[18,31,18,32],[20,23,20,30],[20,31,20,32],[19,23,19,30],[19,31,19,32],[21,23,21,30],[21,31,21,32],[22,23,22,30],[22,31,22,32],[23,23,23,30],[23,31,23,32]]}
["Date","GAME_No","PLACE","No","CA","POS",null,"GS","MIN","PENALTY","PS","teams","top","bottom","members","status","pos","nbr","c/a","referee","SV",null,null,null,null,null,null,null,null,null,null,null,null,null,null,"Vacu2"]
[null,null,null,null,null,null,null,null,null,"ABUSE",null,"新横浜ジュニア　A　（高学年）",2,18,"小森  和之","役員のみ",null,null,null,null,null,null,null,null,null,null,null,null,null,null,null,null,null,null,null,"myPlayer",null,"myPos","myNbr","myCa"]
["2017-04-22","1","相模原銀河アリーナ","0","(C)","G",null,"EQ","-","AD-EQ","G","新横浜ジュニア　B　（高学年）",20,37,"角丸  貴洋","役員のみ",null,null,null,"有田 沙代","金子　精司"]
["2017-04-22","2","横浜銀行アイスアリーナ","1","(A)","-",null,"+1","0","ATTITUDE","N","YOKOHAMA STARS　（高学年）",39,57,"北川  聡","役員のみ",null,null,null,"有田 典生","伊藤　一"]
["2017-04-22","4","新横浜スケートセンター","2","(BP)","F",null,"+2","2","BD-CK","-","LP/BB/AL　合同　（高学年）",59,83,"田中  美彦","役員のみ",null,null,null,"安藤 仁詩","柏木　満"]
["2017-04-23","8","bottom","3","(C)(BP)","D",null,"-1","5","BLOOD","bottom","parameter",null,null,"渋谷  一樹","役員のみ",null,null,null,"生島 喜大","宮本　淳平"]
["bottom","bottom",null,"4","(A)(BP)","-",null,"-2","10","BOARD",null,null,null,null,"小野  真","役員のみ",null,null,null,"五十嵐 千恵","飯田　松男"]
[null,null,null,"5","bottom","bottom",null,"PS","20","BR-ST",null,null,null,null,"天明  海太","選手・役員",null,null,null,"石橋 憲一","石田　淳"]
[null,null,null,"6",null,null,null,"EN","25","BUT-E",null,null,null,null,"山賀  響","選手・役員",null,null,null,"石山 卓男","石山　卓男"]
[null,null,"1500","7",null,null,null,"bottom","bottom","CHARG",null,null,null,null,"仁王  利樹","選手・役員",null,null,null,"大山 訓弘","岩崎  伸一"]
[null,null,"2000","8",null,null,null,null,null,"CHE-B",null,null,null,null,"角丸  洸斗","選手・役員",null,null,null,"奥山 美紀","菊池　拓海"]
[null,null,null,"9",null,null,null,null,null,"CHE-H",null,null,null,null,"ウルフ  錬","選手・役員",null,null,null,"鍵和田 和明","佐々木 暁"]
[null,null,null,"10",null,null,null,null,null,"CH-PL",null,null,null,null,"廣瀬  幸紀","選手・役員",null,null,null,"数村 憲治","猪俣　信行"]
[null,null,null,"11",null,null,null,null,null,"CLIPP",null,null,null,null,"北川  太陽","選手・役員",null,null,null,"鎌田 司","谷口  泰久"]
[null,null,"12:00","12",null,null,null,null,null,"CROSS",null,null,null,null,"山賀  兜","選手・役員",null,null,null,"上山 洋","中嶋  寛"]
[null,null,"13:30","13",null,null,null,null,null,"DELAY",null,null,null,null,"武田  康秀","選手・役員",null,null,null,"河久保 昌利","西村　三雄"]
[null,null,"16:45","14",null,null,null,null,null,"DIS-N",null,null,null,null,"田島  航","選手・役員",null,null,null,"黒岩 周一郎","岡野　宏"]
[null,null,"13:00","15",null,null,null,null,null,"DIVE",null,null,null,null,"松浦  弾","選手・役員",null,null,null,"KOUHIA MIKA","長谷川  宜彦"]
[null,null,null,"16",null,null,null,null,null,"ELBOW",null,null,null,null,"新横浜ジュニア　A　（高学年）",null,null,null,null,"近藤 健一","松田　圭介"]
[null,null,null,"17",null,null,null,null,null,"EQ-INF",null,null,null,null,"小森  和之","役員のみ",null,null,null,"近藤 嘉和","水原　健司"]
[null,null,null,"18",null,null,null,null,null,"EX-RP",null,null,null,null,"角丸  貴洋","役員のみ",null,null,null,"坂田 敏博","吉田　見登留"]
[null,null,null,"19",null,null,null,null,null,"FAL-P",null,null,null,null,"北川  聡","役員のみ",null,null,null,"佐久間 悦男"]
[null,null,null,"20",null,null,null,null,null,"FISTI",null,null,null,null,"田中  美彦","役員のみ",null,null,null,"佐々木 暁"]
[null,null,null,"21",null,null,null,null,null,"GK-PEN",null,null,null,null,"渋谷  一樹","役員のみ",null,null,null,"佐藤 茂之"]
[null,null,null,"22","gka",null,null,null,null,"GM",null,null,null,null,"小野  真","役員のみ",null,null,null,"下平 浩幸"]
[null,null,null,"23",{"$f":"IF(GameSheet!A7=\"\",\"\",GameSheet!A7)","v":"-"},null,null,null,null,"HAND-P",null,null,null,null,"金澤  颯太","選手・役員",null,null,null,"下山 浩二"]
[null,null,null,"24",{"$f":"IF(GameSheet!A8=\"\",\"\",GameSheet!A8)","v":"-"},null,null,null,null,"H-BUT",null,null,null,null,"濵口  海音","選手・役員",null,null,null,"須田 瑞季"]
[null,null,null,"25","-",null,null,null,null,"HI-ST",null,null,null,null,"Gaskell  Tyler","選手・役員",null,null,null,"高松 正樹"]
[null,null,null,"26",null,null,null,null,null,"HOLD",null,null,null,null,"西郷  颯人","選手・役員",null,null,null,"瀧澤 洋平"]
[null,null,null,"27","gkb",null,null,null,null,"HO-ST",null,null,null,null,"小林  慶大","選手・役員",null,null,null,"田中 哲治"]
[null,null,null,"28",{"$f":"IF(GameSheet!A32=\"\",\"\",GameSheet!A32)","v":"-"},null,null,null,null,"HOOK",null,null,null,null,"小野  快志朗","選手・役員",null,null,null,"田中 俊久"]
[null,null,null,"29",{"$f":"IF(GameSheet!A33=\"\",\"\",GameSheet!A33)","v":"-"},null,null,null,null,"INTRF",null,null,null,null,"小森  昊","選手・役員",null,null,null,"立花 勝彦"]
[null,null,null,"30","-",null,null,null,null,"INT-S",null,null,null,null,"田中  佑志","選手・役員",null,null,null,"戸高 英明"]
[null,null,null,"31",null,null,null,null,null,"KICK",null,null,null,null,"栗栖  悠羽","選手・役員",null,null,null,"中島 透"]
[null,null,null,"32",null,null,null,null,null,"KNEE",null,null,null,null,"渋谷  龍之介","選手・役員",null,null,null,"中村 秀岳"]
[null,null,null,"33",null,null,null,null,null,"L-BCH",null,null,null,null,"岡  蓮太郎","選手・役員",null,null,null,"中山 茂"]
[null,null,null,"34",null,null,null,null,null,"MATCH",null,null,null,null,"李  瑛","選手・役員",null,null,null,"生田目 健次"]
[null,null,null,"35",null,null,null,null,null,"MISC",null,null,null,null,"新横浜ジュニア　B　（高学年）",null,null,null,null,"橋本 昌伸"]
[null,null,null,"36",null,null,null,null,null,"OTHER",null,null,null,null,"鈴木  孝昌","役員のみ",null,null,null,"長谷川 宜彦"]
[null,null,null,"37",null,null,null,null,null,"REFUS",null,null,null,null,"高橋  浩三","役員のみ",null,null,null,"畑田 進"]
[null,null,null,"38",null,null,null,null,null,"ROUGH",null,null,null,null,"小林  秀","役員のみ",null,null,null,"畑中 和幸"]
[null,null,null,"39",null,null,null,null,null,"SLASH",null,null,null,null,"川口  岳","役員のみ",null,null,null,"平田 浩章"]
[null,null,null,"40",null,null,null,null,null,"SPEAR",null,null,null,null,"鈴木  明美","役員のみ",null,null,null,"平田 三元"]
[null,null,null,"41",null,null,null,null,null,"THR-ST",null,null,null,null,"大久保  秀悟","選手・役員",null,null,null,"平 亮太"]
[null,null,null,"42",null,null,null,null,null,"TOO-M",null,null,null,null,"齊藤  大也","選手・役員",null,null,null,"平間 達也"]
[null,null,null,"43",null,null,null,null,null,"TRIP",null,null,null,null,"吉田  壱","選手・役員",null,null,null,"廣瀬 健"]
[null,null,null,"44",null,null,null,null,null,"UN-SP",null,null,null,null,"志田  真菜","選手・役員",null,null,null,"町井 勝輝"]
[null,null,null,"45",null,null,null,null,null,"bottom",null,null,null,null,"長谷川  公亮","選手・役員",null,null,null,"丸山 智由"]
[null,null,null,"46",null,null,null,null,null,null,null,null,null,null,"上野  紘大","選手・役員",null,null,null,"本田 直人"]
[null,null,null,"47",null,null,null,null,null,null,null,null,null,null,"石村  虎太郎","選手・役員",null,null,null,"八重川 隆"]
[null,null,null,"48",null,null,null,null,null,null,null,null,null,null,"村川  晨","選手・役員",null,null,null,"山本 秀彦"]
[null,null,null,"49",null,null,null,null,null,null,null,null,null,null,"平田  蓮樹","選手・役員",null,null,null,"吉田 俊一"]
[null,null,null,"50",null,null,null,null,null,null,null,null,null,null,"比嘉  ルシオ仁悠","選手・役員",null,null,null,"吉田 浩幸"]
[null,null,null,"51",null,null,null,null,null,null,null,null,null,null,"平田  陽馬","選手・役員",null,null,null,"吉田 見登留"]
[null,null,null,"52",null,null,null,null,null,null,null,null,null,null,"畑中  こはる","選手・役員",null,null,null,"米山 清司"]
[null,null,null,"53",null,null,null,null,null,null,null,null,null,null,"吉田  詩","選手・役員",null,null,null,"米山 志保"]
[null,null,null,"54",null,null,null,null,null,null,null,null,null,null,"樋口  諄","選手・役員",null,null,null,"和田 等"]
[null,null,null,"55",null,null,null,null,null,null,null,null,null,null,"YOKOHAMA STARS　（高学年）"]
[null,null,null,"56",null,null,null,null,null,null,null,null,null,null,"伊東  正仁","役員のみ"]
[null,null,null,"57",null,null,null,null,null,null,null,null,null,null,"枕辺  勝美","役員のみ"]
[null,null,null,"58",null,null,null,null,null,null,null,null,null,null,"梅原  弘幸","役員のみ"]
[null,null,null,"59",null,null,null,null,null,null,null,null,null,null,"矢嶋  悠作","役員のみ"]
[null,null,null,"60",null,null,null,null,null,null,null,null,null,null,"浦島  恒","役員のみ"]
[null,null,null,"61",null,null,null,null,null,null,null,null,null,null,"園部  正博","役員のみ"]
[null,null,null,"62",null,null,null,null,null,null,null,null,null,null,"荒木  卓三","役員のみ"]
[null,null,null,"63",null,null,null,null,null,null,null,null,null,null,"佐藤  謙治","役員のみ"]
[null,null,null,"64",null,null,null,null,null,null,null,null,null,null,"田井  喜美江","役員のみ"]
[null,null,null,"65",null,null,null,null,null,null,null,null,null,null,"矢嶋  頼登","選手・役員"]
[null,null,null,"66",null,null,null,null,null,null,null,null,null,null,"小林  福","選手・役員"]
[null,null,null,"67",null,null,null,null,null,null,null,null,null,null,"石川  令","選手・役員"]
[null,null,null,"68",null,null,null,null,null,null,null,null,null,null,"松尾  拓実","選手・役員"]
[null,null,null,"69",null,null,null,null,null,null,null,null,null,null,"小池  望愛","選手・役員"]
[null,null,null,"70",null,null,null,null,null,null,null,null,null,null,"北村  桜子","選手・役員"]
[null,null,null,"71",null,null,null,null,null,null,null,null,null,null,"梅原  柊翔","選手・役員"]
[null,null,null,"72",null,null,null,null,null,null,null,null,null,null,"犬童  亮一朗","選手・役員"]
[null,null,null,"73",null,null,null,null,null,null,null,null,null,null,"中尾  靖士","選手・役員"]
[null,null,null,"74",null,null,null,null,null,null,null,null,null,null,"勝岡  鷲平","選手・役員"]
[null,null,null,"75",null,null,null,null,null,null,null,null,null,null,"斎藤  亮輔","選手・役員"]
[null,null,null,"76",null,null,null,null,null,null,null,null,null,null,"田中  亮至","選手・役員"]
[null,null,null,"77",null,null,null,null,null,null,null,null,null,null,"江頭  諄","選手・役員"]
[null,null,null,"78",null,null,null,null,null,null,null,null,null,null,"服部  峰大","選手・役員"]
[null,null,null,"79",null,null,null,null,null,null,null,null,null,null,"福西  佑希","選手・役員"]
[null,null,null,"80",null,null,null,null,null,null,null,null,null,null,"鈴木  朝陽","選手・役員"]
[null,null,null,"81",null,null,null,null,null,null,null,null,null,null,"LP/BB/AL　合同　（高学年）"]
[null,null,null,"82"]
[null,null,null,"83"]
[null,null,null,"84"]
[null,null,null,"85"]
[null,null,null,"86"]
[null,null,null,"87"]
[null,null,null,"88"]
[null,null,null,"89"]
[null,null,null,"90"]
[null,null,null,"91"]
[null,null,null,"92"]
[null,null,null,"93"]
[null,null,null,"94"]
[null,null,null,"95"]
[null,null,null,"96"]
[null,null,null,"97"]
[null,null,null,"98"]
[null,null,null,"99"]
[null,null,null,"T0"]
[null,null,null,"T1"]
[null,null,null,"T2"]
[null,null,null,"T3"]
[null,null,null,"T4"]
[null,null,null,"T5"]
[null,null,null,"T6"]
[null,null,null,"T7"]
[null,null,null,"T8"]
[null,null,null,"T9"]
[null,null,null,"T10"]
[null,null,null,"T11"]
[null,null,null,"T12"]
[null,null,null,"T13"]
[null,null,null,"T14"]
[null,null,null,"T15"]
[null,null,null,"T16"]
[null,null,null,"T17"]
[null,null,null,"T18"]
[null,null,null,"T19"]
[null,null,null,"T20"]
[null,null,null,"T21"]
[null,null,null,"T22"]
[null,null,null,"T23"]
[null,null,null,"T24"]
[null,null,null,"T25"]
[null,null,null,"T26"]
[null,null,null,"T27"]
[null,null,null,"T28"]
[null,null,null,"T29"]
[null,null,null,"T30"]
[null,null,null,"T31"]
[null,null,null,"T32"]
[null,null,null,"T33"]
[null,null,null,"T34"]
[null,null,null,"T35"]
[null,null,null,"T36"]
[null,null,null,"T37"]
[null,null,null,"T38"]
[null,null,null,"T39"]
[null,null,null,"T40"]
[null,null,null,"T41"]
[null,null,null,"T42"]
[null,null,null,"T43"]
[null,null,null,"T44"]
[null,null,null,"T45"]
[null,null,null,"T46"]
[null,null,null,"T47"]
[null,null,null,"T48"]
[null,null,null,"T49"]
[null,null,null,"T50"]
[null,null,null,"T51"]
[null,null,null,"T52"]
[null,null,null,"T53"]
[null,null,null,"T54"]
[null,null,null,"T55"]
[null,null,null,"T56"]
[null,null,null,"T57"]
[null,null,null,"T58"]
[null,null,null,"T59"]
[null,null,null,"T60"]
[null,null,null,"T61"]
[null,null,null,"T62"]
[null,null,null,"T63"]
[null,null,null,"T64"]
[null,null,null,"T65"]
[null,null,null,"T66"]
[null,null,null,"T67"]
[null,null,null,"T68"]
[null,null,null,"T69"]
[null,null,null,"T70"]
[null,null,null,"T71"]
[null,null,null,"T72"]
[null,null,null,"T73"]
[null,null,null,"T74"]
[null,null,null,"T75"]
[null,null,null,"T76"]
[null,null,null,"T77"]
[null,null,null,"T78"]
[null,null,null,"T79"]
[null,null,null,"T80"]
[null,null,null,"T81"]
[null,null,null,"T82"]
[null,null,null,"T83"]
[null,null,null,"T84"]
[null,null,null,"T85"]
[null,null,null,"T86"]
[null,null,null,"T87"]
[null,null,null,"T88"]
[null,null,null,"T89"]
[null,null,null,"T90"]
[null,null,null,"T91"]
[null,null,null,"T92"]
[null,null,null,"T93"]
[null,null,null,"T94"]
[null,null,null,"T95"]
[null,null,null,"T96"]
[null,null,null,"T97"]
[null,null,null,"T98"]
[null,null,null,"T99"]
[null,null,null,"T"]
[null,null,null,"-"]
[null,null,null,"bottom"]

{"sheet":"参考（略語解説)","index":9,"n_rows":68,"n_cols":30,"rows_kept":68,"cut":false,"hidden":false,"merged":[[0,24,0,28],[1,22,1,23],[1,24,1,28],[2,22,2,23],[2,24,2,28],[0,22,0,23],[3,24,3,28],[4,22,4,23],[4,24,4,28],[5,22,5,23],[5,24,5,28],[3,22,3,23],[11,22,11,23],[11,24,11,28],[6,22,6,23],[6,24,6,28],[7,22,7,23],[7,24,7,28],[8,22,8,23],[8,24,8,28],[9,22,9,23],[9,24,9,28],[10,22,10,23],[10,24,10,28],[17,22,17,23],[17,24,17,28],[12,6,12,20],[12,22,12,23],[12,24,12,28],[13,22,13,23],[13,24,13,28],[14,22,14,23],[14,24,14,28],[15,22,15,23],[15,24,15,28],[16,22,16,23],[16,24,16,28],[23,22,23,23],[23,24,23,28],[18,22,18,23],[18,24,18,28],[19,22,19,23],[19,24,19,28],[20,22,20,23],[20,24,20,28],[21,22,21,23],[21,24,21,28],[22,22,22,23],[22,24,22,28],[31,22,31,23],[31,24,31,28],[24,22,27,23],[24,24,24,28],[25,24,25,28],[26,24,26,28],[27,24,27,28],[28,22,28,23],[28,24,28,28],[29,22,29,23],[29,24,29,28],[30,22,30,23],[30,24,30,28],[37,22,37,23],[37,24,37,28],[32,22,32,23],[32,24,32,28],[33,22,33,23],[33,24,33,28],[34,22,34,23],[34,24,34,28],[35,22,35,23],[35,24,35,28],[36,22,36,23],[36,24,36,28],[44,22,44,23],[44,24,44,28],[38,22,40,23],[38,24,38,28],[39,24,39,28],[40,24,40,28],[41,22,41,23],[41,24,41,28],[42,22,42,23],[42,24,42,28],[43,22,43,23],[43,24,43,28],[50,22,50,23],[50,24,50,28],[45,22,45,23],[45,24,45,28],[46,22,46,23],[46,24,46,28],[47,22,47,23],[47,24,47,28],[48,22,48,23],[48,24,48,28],[49,22,49,23],[49,24,49,28],[51,24,51,28],[54,22,54,23],[54,27,54,28],[60,22,60,23],[59,22,59,23],[55,22,55,23],[56,22,56,23],[57,22,57,23],[58,22,58,23],[51,22,51,23],[61,22,61,23],[67,22,67,23],[63,22,63,23],[64,22,64,23],[65,22,65,23],[66,22,66,23],[62,22,62,23]]}
["Explanations of abbreviations:",null,null,null,null,null,"略語の説明",null,null,null,null,null,null,null,null,null,null,null,null,null,null,null,"Abbreviations",null,"Explanations of penalty abbreviations:"]
["Event",null,null,null,null,null,"大会の名称",null,null,null,null,null,null,null,null,null,null,null,null,null,null,null,"ABUSE",null,"Abuse of officials",null,null,null,null,"01"]
["Place",null,null,null,null,null,"試合の開催地（開催地の連盟），競技場（リンク名）",null,null,null,null,null,null,null,null,null,null,null,null,null,null,null,"AD-EQ",null,"Measurement of equipment",null,null,null,null,"02"]
["Date",null,null,null,null,null,"試合の開催日",null,null,null,null,null,null,null,null,null,null,null,null,null,null,null,"ATITUDE",null,"Atitude of captain or alternate captain",null,null,null,null,"03"]
["Start",null,null,null,null,null,"予定の試合開始時刻",null,null,null,null,null,null,null,null,null,null,null,null,null,null,null,"BD-CK",null,"Body checking (women only)",null,null,null,null,"04"]
["Spectators",null,null,null,null,null,"観客入場者数",null,null,null,null,null,null,null,null,null,null,null,null,null,null,null,"BENCH",null,"Bench minor penalty",null,null,null,null,"05"]
["Game No.",null,null,null,null,null,"試合番号",null,null,null,null,null,null,null,null,null,null,null,null,null,null,null,"BLOOD",null,"Prevention of infection by blood",null,null,null,null,"06"]
["Home Team(A)",null,null,null,null,null,"ホームチーム名",null,null,null,null,null,null,null,null,null,null,null,null,null,null,null,"BOARD",null,"Boarding",null,null,null,null,"07"]
["Visiting Team(B)",null,null,null,null,null,"ビジターチーム名",null,null,null,null,null,null,null,null,null,null,null,null,null,null,null,"BR-ST",null,"Broken stick",null,null,null,null,"08"]
["No.",null,null,null,null,null,"選手の背番号",null,null,null,null,null,null,null,null,null,null,null,null,null,null,null,"BUTT-E",null,"Butt-ending",null,null,null,null,"09"]
["Family and Given Name(+BP+C/A)",null,null,null,null,null,"選手の氏名（名字，名前） BP=ゲーム・ベストプレイヤー，C=キャプテン，A=キャプテン代行",null,null,null,null,null,null,null,null,null,null,null,null,null,null,null,"CH-PL",null,"Infingement of change of players",null,null,null,null,"10"]
["Pos",null,null,null,null,null,"選手のポジション　　GK=ゴールキーパー，D=ディフェンス，F=フォワード",null,null,null,null,null,null,null,null,null,null,null,null,null,null,null,"CHARG",null,"Charging",null,null,null,null,"11"]
["Y-N",null,null,null,null,null,"選手の出場記録　　Y=氷上でプレイした場合，N=氷上でプレイしなかった場合",null,null,null,null,null,null,null,null,null,null,null,null,null,null,null,"CHE-B",null,"Checking from behind",null,null,null,null,"12"]
["SoG",null,null,null,null,null,"選手のシュート数（相手GKがセーブしたシュート数＋得点数）　　※　各選手のシュート数の合計",null,null,null,null,null,null,null,null,null,null,null,null,null,null,null,"CHE-H",null,"Checking to the head and neck",null,null,null,null,"13"]
["#",null,null,null,null,null,"得点順(何点目の得点）",null,null,null,null,null,null,null,null,null,null,null,null,null,null,null,"CLIPP",null,"Clipping",null,null,null,null,"14"]
["Time",null,null,null,null,null,"得点した時間（累計時間）",null,null,null,null,null,null,null,null,null,null,null,null,null,null,null,"CROSS",null,"Cross-checking",null,null,null,null,"15"]
["G",null,null,null,null,null,"得点選手の背番号",null,null,null,null,null,null,null,null,null,null,null,null,null,null,null,"DELAY",null,"Delaying the game",null,null,null,null,"16"]
["A1",null,null,null,null,null,"第１アシスト選手の背番号",null,null,null,null,null,null,null,null,null,null,null,null,null,null,null,"DIS-N",null,"Goal being diliberately dislodged",null,null,null,null,"17"]
["A2",null,null,null,null,null,"第２アシスト選手の背番号",null,null,null,null,null,null,null,null,null,null,null,null,null,null,null,"ELBOW",null,"Elbowing",null,null,null,null,"18"]
["GS",null,null,null,null,null,"得点時の試合の状況（滞氷選手数の状況）　　EQ=同人数，+1=パワープレイ(5:4)，+2=パワープレイ(5:3)，",null,null,null,null,null,null,null,null,null,null,null,null,null,null,null,"EQ-INF",null,"Equipment infraction",null,null,null,null,"19"]
[null,null,null,null,null,null,"－1＝ショートハンド(4:5)，－2=ショートハンド(3:5)，PS=ペナルティ･ショット，EN=エンプティネット・ゴール",null,null,null,null,null,null,null,null,null,null,null,null,null,null,null,"EX-RP",null,"Excessive roughness",null,null,null,null,"20"]
["P1 P2 P3 P4 P5 P6",null,null,null,null,null,"得点したチームの滞氷選手の背番号",null,null,null,null,null,null,null,null,null,null,null,null,null,null,null,"FAL-P",null,"Falling on the puck",null,null,null,null,"21"]
["N1 N2 N3 N4 N5 N6",null,null,null,null,null,"失点したチームの滞氷選手の背番号",null,null,null,null,null,null,null,null,null,null,null,null,null,null,null,"FISTI",null,"Fisticuffs",null,null,null,null,"22"]
["Time",null,null,null,null,null,"反則をした時間（レフェリーが反則を通告した時間）",null,null,null,null,null,null,null,null,null,null,null,null,null,null,null,"GA-MI",null,"Game misconduct penalty",null,null,null,null,"23"]
["No.",null,null,null,null,null,"反則をした選手の背番号（代行選手にはTと背番号を，チーム・オフィシャルにはTを記入）　　",null,null,null,null,null,null,null,null,null,null,null,null,null,null,null,"GK-PEN",null,"- beyond the red center line",null,null,null,null,24]
["Min.",null,null,null,null,null,"反則の分数（2，5，10，20，25，ただしペナルティ･ショットは0またはPSを記入）",null,null,null,null,null,null,null,null,null,null,null,null,null,null,null,null,null,"- to bench during the stoppage of play",null,null,null,null,25]
["Offence",null,null,null,null,null,"反則内容（反則名の略語）　　※　右記の略語表を参照のこと",null,null,null,null,null,null,null,null,null,null,null,null,null,null,null,null,null,"- leaving the crease during an altercation",null,null,null,null,26]
["Start",null,null,null,null,null,"反則の計時を開始した時間",null,null,null,null,null,null,null,null,null,null,null,null,null,null,null,null,null,"- dropping the puck on goal netting",null,null,null,null,"27"]
["End",null,null,null,null,null,"反則の計時を終了した時間",null,null,null,null,null,null,null,null,null,null,null,null,null,null,null,"HAND-P",null,"Hand pass",null,null,null,null,"28"]
["Period",null,null,null,null,null,"ピリオド（1，2，3，OVT=オーバータイム，PS=ペナルティー・ショット戦）",null,null,null,null,null,null,null,null,null,null,null,null,null,null,null,"H-BUT",null,"Head butting",null,null,null,null,"29"]
["Total",null,null,null,null,null,"各項目の合計",null,null,null,null,null,null,null,null,null,null,null,null,null,null,null,"HI-ST",null,"High sticking",null,null,null,null,"30"]
["G A:B",null,null,null,null,null,"各ピリオドの得点数（A=ホームチーム，B=ビジターチーム）",null,null,null,null,null,null,null,null,null,null,null,null,null,null,null,"HOLD",null,"Holding",null,null,null,null,"31"]
["SOG A:B",null,null,null,null,null,"各ピリオドのシュート数（相手GKがセーブしたシュート数＋得点数）　（A=ホームチーム，B=ビジターチーム）",null,null,null,null,null,null,null,null,null,null,null,null,null,null,null,"HOOK",null,"Hooking",null,null,null,null,"32"]
["PIM A:B",null,null,null,null,null,"各ピリオドの反則分数（A=ホームチーム，B=ビジターチーム）",null,null,null,null,null,null,null,null,null,null,null,null,null,null,null,"HO-ST",null,"Holding the stick",null,null,null,null,"33"]
["PPGF A:B",null,null,null,null,null,"各ピリオドのパワープレイ・ゴール数（A=ホームチーム，B=ビジターチーム）",null,null,null,null,null,null,null,null,null,null,null,null,null,null,null,"INTRF",null,"Interference",null,null,null,null,"34"]
["SHGF A:B",null,null,null,null,null,"各ピリオドのショートハンド・ゴール数（A=ホームチーム，B=ビジターチーム）",null,null,null,null,null,null,null,null,null,null,null,null,null,null,null,"INT-S",null,"Interference with spectators",null,null,null,null,"35"]
["GKA1",null,null,null,null,null,"ホームチームの第１（先発した）ゴールキーパーのセーブ数（各ピリオドごと）",null,null,null,null,null,null,null,null,null,null,null,null,null,null,null,"KICK",null,"Kicking",null,null,null,null,"36"]
["GKA2",null,null,null,null,null,"ホームチームの第２（交代した）ゴールキーパーのセーブ数（各ピリオドごと）",null,null,null,null,null,null,null,null,null,null,null,null,null,null,null,"KNEE",null,"Kneeing",null,null,null,null,"37"]
["GKB1",null,null,null,null,null,"ビジターチームの第１（先発した）ゴールキーパーのセーブ数（各ピリオドごと）",null,null,null,null,null,null,null,null,null,null,null,null,null,null,null,"L-BCH",null,"Leaving the player/penalty bench",null,null,null,null,"38"]
["GKB2",null,null,null,null,null,"ビジターチームの第２（交代した）ゴールキーパーのセーブ数（各ピリオドごと）",null,null,null,null,null,null,null,null,null,null,null,null,null,null,null,null,null,"Leaving the bench during an altercation",null,null,null,null,"39"]
["GKA",null,null,null,null,null,"ホームチームのゴールキーパーの背番号　　※　上段：第１（先発した）ゴールキーパーの背番号",null,null,null,null,null,null,null,null,null,null,null,null,null,null,null,null,null,"Team officials leaving the bench",null,null,null,null,"40"]
["GKB",null,null,null,null,null,"ビジターチームのゴールキーパーの背番号　　※　上段：第１（先発した）ゴールキーパーの背番号",null,null,null,null,null,null,null,null,null,null,null,null,null,null,null,"MATCH",null,"Match penalty",null,null,null,null,"41"]
["MIP",null,null,null,null,null,"各ゴールキーパーの滞氷時間の合計",null,null,null,null,null,null,null,null,null,null,null,null,null,null,null,"MISC",null,"Misconduct",null,null,null,null,"42"]
["GA",null,null,null,null,null,"各ゴールキーパーの失点数の合計",null,null,null,null,null,null,null,null,null,null,null,null,null,null,null,"OTHER",null,"Harassing Offences",null,null,null,null,"43"]
["Start of game",null,null,null,null,null,"実際の試合開始時刻",null,null,null,null,null,null,null,null,null,null,null,null,null,null,null,"REFUS",null,"Refusing to strat play",null,null,null,null,"44"]
["End of game",null,null,null,null,null,"実際の試合終了時刻",null,null,null,null,null,null,null,null,null,null,null,null,null,null,null,"ROUGH",null,"Roughing",null,null,null,null,"45"]
["Timeout A",null,null,null,null,null,"ホームチームが30秒間のタイムアウトをとった時間",null,null,null,null,null,null,null,null,null,null,null,null,null,null,null,"SLASH",null,"Slashing",null,null,null,null,"46"]
["Timeout B",null,null,null,null,null,"ビジターチームが30秒間タイムアウトをとった時間",null,null,null,null,null,null,null,null,null,null,null,null,null,null,null,"SPEAR",null,"Spearing",null,null,null,null,"47"]
["Game Superviser",null,null,null,null,null,"ゲーム・スーパーバイザーの氏名",null,null,null,null,null,null,null,null,null,null,null,null,null,null,null,"THR-ST",null,"Throwing the stick or any other object",null,null,null,null,"48"]
["Time",null,null,null,null,null,"ゴールキーパーが交代した時間",null,null,null,null,null,null,null,null,null,null,null,null,null,null,null,"TOO-M",null,"Too many players on the Ice",null,null,null,null,"49"]
["GKA",null,null,null,null,null,"滞氷したホームチームのゴールキーパーの背番号　　※　滞氷していない場合は－を記入",null,null,null,null,null,null,null,null,null,null,null,null,null,null,null,"TRIP",null,"Tripping",null,null,null,null,"50"]
["GKB",null,null,null,null,null,"滞氷したビジターチームのゴールキーパーの背番号　　※　滞氷していない場合は－を記入",null,null,null,null,null,null,null,null,null,null,null,null,null,null,null,"UN-SP",null,"Diving",null,null,null,null,"51"]
["Head Coarch A",null,null,null,null,null,"ホームチームの監督（ヘッドコーチ）の氏名"]
["Head Coarch B",null,null,null,null,null,"ビジターチームの監督（ヘッドコーチ)の氏名",null,null,null,null,null,null,null,null,null,null,null,null,null,null,null,"Goalkeepers Changes"]
["Timekeeper",null,null,null,null,null,"タイムキーパーの氏名",null,null,null,null,null,null,null,null,null,null,null,null,null,null,null,"Time",null,"GKA","GKB",null,"Game No.:"]
["Pnalty Timekeeper",null,null,null,null,null,"ペナルティ・タイムキーパーの氏名",null,null,null,null,null,null,null,null,null,null,null,null,null,null,null,":"]
["Announcer",null,null,null,null,null,"アナウンサーの氏名",null,null,null,null,null,null,null,null,null,null,null,null,null,null,null,":"]
["Goal Judge",null,null,null,null,null,"ゴール・ジャッジの氏名 ",null,null,null,null,null,null,null,null,null,null,null,null,null,null,null,":"]
["Penalty Bench Attendant:",null,null,null,null,null,"ペナルティ・ベンチ・アテンダントの氏名",null,null,null,null,null,null,null,null,null,null,null,null,null,null,null,":"]
["Scorekeeper",null,null,null,null,null,"スコアキーパーの氏名",null,null,null,null,null,null,null,null,null,null,null,null,null,null,null,":"]
["Linesman",null,null,null,null,null,"ラインズマンの氏名",null,null,null,null,null,null,null,null,null,null,null,null,null,null,null,":"]
["Referee",null,null,null,null,null,"レフェリーの氏名",null,null,null,null,null,null,null,null,null,null,null,null,null,null,null,":"]
["Sign. Referee",null,null,null,null,null,"レフェリーの署名（サイン）",null,null,null,null,null,null,null,null,null,null,null,null,null,null,null,":"]
["A",null,null,null,null,null,"ペナルティー・ショット戦を行うホームチーム選手の背番号（先攻の場合は＊Aと表記）",null,null,null,null,null,null,null,null,null,null,null,null,null,null,null,":"]
["B",null,null,null,null,null,"ペナルティー・ショット戦を行うビジターチーム選手の背番号（先攻の場合は＊Bと表記）",null,null,null,null,null,null,null,null,null,null,null,null,null,null,null,":"]
["GKA",null,null,null,null,null,"ペナルティー・ショット戦を受けるホームチーム・ゴールキーパーの背番号",null,null,null,null,null,null,null,null,null,null,null,null,null,null,null,":"]
["GKB",null,null,null,null,null,"ペナルティー・ショット戦を受けるビジターチーム・ゴールキーパーの背番号",null,null,null,null,null,null,null,null,null,null,null,null,null,null,null,":"]
["GF:GA",null,null,null,null,null,"ペナルティー・ショット戦を行った時点の得点数(ホームチームの得点数：ビジターチームの得点数)",null,null,null,null,null,null,null,null,null,null,null,null,null,null,null,":"]

{"sheet":"追加・削除用","index":10,"n_rows":0,"n_cols":0,"rows_kept":0,"cut":false,"hidden":false,"merged":[]}